BEGIN:VCALENDAR
VERSION:2.0
PRODID:-//Spalding, Nebraska - ECPv6.15.20//NONSGML v1.0//EN
CALSCALE:GREGORIAN
METHOD:PUBLISH
X-WR-CALNAME:Spalding, Nebraska
X-ORIGINAL-URL:https://spaldingne.com
X-WR-CALDESC:Events for Spalding, Nebraska
REFRESH-INTERVAL;VALUE=DURATION:PT1H
X-Robots-Tag:noindex
X-PUBLISHED-TTL:PT1H
BEGIN:VTIMEZONE
TZID:America/Chicago
BEGIN:DAYLIGHT
TZOFFSETFROM:-0600
TZOFFSETTO:-0500
TZNAME:CDT
DTSTART:20240310T080000
END:DAYLIGHT
BEGIN:STANDARD
TZOFFSETFROM:-0500
TZOFFSETTO:-0600
TZNAME:CST
DTSTART:20241103T070000
END:STANDARD
BEGIN:DAYLIGHT
TZOFFSETFROM:-0600
TZOFFSETTO:-0500
TZNAME:CDT
DTSTART:20250309T080000
END:DAYLIGHT
BEGIN:STANDARD
TZOFFSETFROM:-0500
TZOFFSETTO:-0600
TZNAME:CST
DTSTART:20251102T070000
END:STANDARD
BEGIN:DAYLIGHT
TZOFFSETFROM:-0600
TZOFFSETTO:-0500
TZNAME:CDT
DTSTART:20260308T080000
END:DAYLIGHT
BEGIN:STANDARD
TZOFFSETFROM:-0500
TZOFFSETTO:-0600
TZNAME:CST
DTSTART:20261101T070000
END:STANDARD
BEGIN:DAYLIGHT
TZOFFSETFROM:-0600
TZOFFSETTO:-0500
TZNAME:CDT
DTSTART:20270314T080000
END:DAYLIGHT
BEGIN:STANDARD
TZOFFSETFROM:-0500
TZOFFSETTO:-0600
TZNAME:CST
DTSTART:20271107T070000
END:STANDARD
END:VTIMEZONE
BEGIN:VEVENT
DTSTART;TZID=America/Chicago:20260128T110000
DTEND;TZID=America/Chicago:20260128T120000
DTSTAMP:20260420T200711
CREATED:20260106T193210Z
LAST-MODIFIED:20260106T193210Z
UID:2507-1769598000-1769601600@spaldingne.com
SUMMARY:SNC Lunch: French Dip Sandwich
DESCRIPTION:French Dip Sandwich \nHash Browns \nMixed Vegetables \nChocolate Pudding
URL:https://spaldingne.com/event/snc-lunch-french-dip-sandwich-5/
LOCATION:Spalding Nutrition Center\, 150 S. Elm Street
CATEGORIES:Spalding Nutrition Center Lunch
END:VEVENT
BEGIN:VEVENT
DTSTART;TZID=America/Chicago:20260126T110000
DTEND;TZID=America/Chicago:20260126T120000
DTSTAMP:20260420T200711
CREATED:20260106T193117Z
LAST-MODIFIED:20260106T193118Z
UID:2505-1769425200-1769428800@spaldingne.com
SUMMARY:SNC Lunch: Spaghetti w/ Meat Sauce
DESCRIPTION:Spaghetti w/ Meat Sauce \nLettuce Salad \nApplesauce \nBreadsticks
URL:https://spaldingne.com/event/snc-lunch-spaghetti-w-meat-sauce-4/
LOCATION:Spalding Nutrition Center\, 150 S. Elm Street
CATEGORIES:Spalding Nutrition Center Lunch
END:VEVENT
BEGIN:VEVENT
DTSTART;TZID=America/Chicago:20260123T110000
DTEND;TZID=America/Chicago:20260123T120000
DTSTAMP:20260420T200712
CREATED:20260106T193015Z
LAST-MODIFIED:20260106T193015Z
UID:2503-1769166000-1769169600@spaldingne.com
SUMMARY:SNC Lunch: Beef & Noodles
DESCRIPTION:Beef & Noodles \n3-Bean Salad \nVanilla Pudding \nCinnamon Muffins
URL:https://spaldingne.com/event/snc-lunch-beef-noodles-5/
LOCATION:Spalding Nutrition Center\, 150 S. Elm Street
CATEGORIES:Spalding Nutrition Center Lunch
END:VEVENT
BEGIN:VEVENT
DTSTART;TZID=America/Chicago:20260122T110000
DTEND;TZID=America/Chicago:20260122T120000
DTSTAMP:20260420T200712
CREATED:20260106T192924Z
LAST-MODIFIED:20260106T192924Z
UID:2501-1769079600-1769083200@spaldingne.com
SUMMARY:SNC Lunch: Oven Fried Chicken
DESCRIPTION:Oven Fried Chicken \nMashed Pot. & Gravy \nCorn \nCookies/Bars \nDinner Rolls
URL:https://spaldingne.com/event/snc-lunch-oven-fried-chicken-10/
LOCATION:Spalding Nutrition Center\, 150 S. Elm Street
CATEGORIES:Spalding Nutrition Center Lunch
END:VEVENT
BEGIN:VEVENT
DTSTART;TZID=America/Chicago:20260121T110000
DTEND;TZID=America/Chicago:20260121T120000
DTSTAMP:20260420T200712
CREATED:20260106T192830Z
LAST-MODIFIED:20260106T192830Z
UID:2499-1768993200-1768996800@spaldingne.com
SUMMARY:SNC Lunch: Polish Sausage
DESCRIPTION:Polish Sausage \nSauerkraut \nPotato Wdgs w/ Onions \nGlazed Carrots \nMandarin Oranges
URL:https://spaldingne.com/event/snc-lunch-polish-sausage-5/
LOCATION:Spalding Nutrition Center\, 150 S. Elm Street
CATEGORIES:Spalding Nutrition Center Lunch
END:VEVENT
BEGIN:VEVENT
DTSTART;TZID=America/Chicago:20260119T110000
DTEND;TZID=America/Chicago:20260119T120000
DTSTAMP:20260420T200712
CREATED:20260106T192724Z
LAST-MODIFIED:20260106T192724Z
UID:2497-1768820400-1768824000@spaldingne.com
SUMMARY:SNC Lunch: Sweet & Sour Pork
DESCRIPTION:Sweet & Sour Pork \nRice \nCaribbean Blend Veg. \nVanilla Pudding \nFried Bread
URL:https://spaldingne.com/event/snc-lunch-sweet-sour-pork-4/
LOCATION:Spalding Nutrition Center\, 150 S. Elm Street
CATEGORIES:Spalding Nutrition Center Lunch
END:VEVENT
BEGIN:VEVENT
DTSTART;TZID=America/Chicago:20260116T110000
DTEND;TZID=America/Chicago:20260116T120000
DTSTAMP:20260420T200712
CREATED:20260106T192505Z
LAST-MODIFIED:20260106T192505Z
UID:2495-1768561200-1768564800@spaldingne.com
SUMMARY:SNC Lunch: Chicken Noodle Soup
DESCRIPTION:Chicken Noodle Soup \nCheese Sandwich \nOreo Fluff Salad
URL:https://spaldingne.com/event/snc-lunch-chicken-noodle-soup/
LOCATION:Spalding Nutrition Center\, 150 S. Elm Street
CATEGORIES:Spalding Nutrition Center Lunch
END:VEVENT
BEGIN:VEVENT
DTSTART;TZID=America/Chicago:20260115T110000
DTEND;TZID=America/Chicago:20260115T120000
DTSTAMP:20260420T200712
CREATED:20260106T192416Z
LAST-MODIFIED:20260106T192416Z
UID:2493-1768474800-1768478400@spaldingne.com
SUMMARY:SNC Lunch: Roast Beef
DESCRIPTION:Roast Beef \nMashed Pot. & Gravy \nCalifornia Blend Veg. \nDessert \nDinner Rolls
URL:https://spaldingne.com/event/snc-lunch-roast-beef-5/
LOCATION:Spalding Nutrition Center\, 150 S. Elm Street
CATEGORIES:Spalding Nutrition Center Lunch
END:VEVENT
BEGIN:VEVENT
DTSTART;TZID=America/Chicago:20260114T110000
DTEND;TZID=America/Chicago:20260114T120000
DTSTAMP:20260420T200712
CREATED:20260106T192301Z
LAST-MODIFIED:20260106T192301Z
UID:2491-1768388400-1768392000@spaldingne.com
SUMMARY:SNC Lunch: Pork Chops
DESCRIPTION:Pork Chops \nElegant Potatoes \nBaked Beans \nButterscotch Pudding
URL:https://spaldingne.com/event/snc-lunch-pork-chops-3/
LOCATION:Spalding Nutrition Center\, 150 S. Elm Street
CATEGORIES:Spalding Nutrition Center Lunch
END:VEVENT
BEGIN:VEVENT
DTSTART;TZID=America/Chicago:20260112T110000
DTEND;TZID=America/Chicago:20260112T120000
DTSTAMP:20260420T200712
CREATED:20260106T192112Z
LAST-MODIFIED:20260106T192112Z
UID:2489-1768215600-1768219200@spaldingne.com
SUMMARY:SNC Lunch: Salisbury Steak
DESCRIPTION:Salisbury Steak \nBaked Potato \nCorn \nTropical Fruit
URL:https://spaldingne.com/event/snc-lunch-salisbury-steak-3/
LOCATION:Spalding Nutrition Center\, 150 S. Elm Street
CATEGORIES:Spalding Nutrition Center Lunch
END:VEVENT
BEGIN:VEVENT
DTSTART;TZID=America/Chicago:20260109T110000
DTEND;TZID=America/Chicago:20260109T120000
DTSTAMP:20260420T200712
CREATED:20260106T192014Z
LAST-MODIFIED:20260106T192014Z
UID:2487-1767956400-1767960000@spaldingne.com
SUMMARY:SNC Lunch: Vegetable Beef Soup
DESCRIPTION:Vegetable Beef Soup \nCheese & Crackers \nWatergate Salad
URL:https://spaldingne.com/event/snc-lunch-vegetable-beef-soup-3/
LOCATION:Spalding Nutrition Center\, 150 S. Elm Street
CATEGORIES:Spalding Nutrition Center Lunch
END:VEVENT
BEGIN:VEVENT
DTSTART;TZID=America/Chicago:20260108T110000
DTEND;TZID=America/Chicago:20260108T120000
DTSTAMP:20260420T200712
CREATED:20260106T191916Z
LAST-MODIFIED:20260106T191916Z
UID:2485-1767870000-1767873600@spaldingne.com
SUMMARY:SNC Lunch: Oven Fried Chicken
DESCRIPTION:Oven Fried Chicken \nMashed Pot. & Gravy \nGlazed Carrots \nJell-O w/ Fruit \nDinner Rolls
URL:https://spaldingne.com/event/snc-lunch-oven-fried-chicken-9/
LOCATION:Spalding Nutrition Center\, 150 S. Elm Street
CATEGORIES:Spalding Nutrition Center Lunch
END:VEVENT
BEGIN:VEVENT
DTSTART;TZID=America/Chicago:20260107T110000
DTEND;TZID=America/Chicago:20260107T120000
DTSTAMP:20260420T200712
CREATED:20260106T191347Z
LAST-MODIFIED:20260106T191347Z
UID:2483-1767783600-1767787200@spaldingne.com
SUMMARY:SNC Lunch: Meatloaf
DESCRIPTION:Meatloaf \nScalloped Potatoes \nCaribbean Blend Veg. \nDessert
URL:https://spaldingne.com/event/snc-lunch-meatloaf-4/
LOCATION:Spalding Nutrition Center\, 150 S. Elm Street
CATEGORIES:Spalding Nutrition Center Lunch
END:VEVENT
BEGIN:VEVENT
DTSTART;TZID=America/Chicago:20260105T110000
DTEND;TZID=America/Chicago:20260105T120000
DTSTAMP:20260420T200712
CREATED:20260106T191207Z
LAST-MODIFIED:20260106T191207Z
UID:2481-1767610800-1767614400@spaldingne.com
SUMMARY:SNC Lunch: Tater Tot Casserole
DESCRIPTION:Tater Tot Casserole \nGreen Beans \nPeaches \nHawaiian Dinner Rolls
URL:https://spaldingne.com/event/snc-lunch-tater-tot-casserole-5/
LOCATION:Spalding Nutrition Center\, 150 S. Elm Street
CATEGORIES:Spalding Nutrition Center Lunch
END:VEVENT
BEGIN:VEVENT
DTSTART;TZID=America/Chicago:20260102T110000
DTEND;TZID=America/Chicago:20260102T120000
DTSTAMP:20260420T200712
CREATED:20260106T191110Z
LAST-MODIFIED:20260106T191110Z
UID:2479-1767351600-1767355200@spaldingne.com
SUMMARY:SNC Lunch: Beef Stew
DESCRIPTION:Beef Stew \nCheese \nBiscuits \nPickled Beets \nPears
URL:https://spaldingne.com/event/snc-lunch-beef-stew-3/
LOCATION:Spalding Nutrition Center\, 150 S. Elm Street
CATEGORIES:Spalding Nutrition Center Lunch
END:VEVENT
BEGIN:VEVENT
DTSTART;TZID=America/Chicago:20260101T110000
DTEND;TZID=America/Chicago:20260101T233000
DTSTAMP:20260420T200712
CREATED:20251113T190958Z
LAST-MODIFIED:20251113T191326Z
UID:2340-1767265200-1767310200@spaldingne.com
SUMMARY:New Years Day Party
DESCRIPTION:Open at 11 am. Come in for all the College Football Games with drink specials.
URL:https://spaldingne.com/event/new-years-day-party/
LOCATION:Sidewinders Saloon\, 166 W St Joseph St\, Spalding\, NE\, 68665\, United States
CATEGORIES:Community Event
END:VEVENT
BEGIN:VEVENT
DTSTART;VALUE=DATE:20260101
DTEND;VALUE=DATE:20260102
DTSTAMP:20260420T200712
CREATED:20251001T022709Z
LAST-MODIFIED:20251001T022709Z
UID:2192-1767225600-1767311999@spaldingne.com
SUMMARY:New Year's Day
DESCRIPTION:
URL:https://spaldingne.com/event/new-years-day/
END:VEVENT
BEGIN:VEVENT
DTSTART;TZID=America/Chicago:20251231T200000
DTEND;TZID=America/Chicago:20260101T000000
DTSTAMP:20260420T200712
CREATED:20251113T190850Z
LAST-MODIFIED:20251113T191247Z
UID:2338-1767211200-1767225600@spaldingne.com
SUMMARY:New Years Eve Bash
DESCRIPTION:Be at Sidewinders Saloon at midnight for drawings\, giveaways\, and free champagne!
URL:https://spaldingne.com/event/new-years-eve-bash/
LOCATION:Sidewinders Saloon\, 166 W St Joseph St\, Spalding\, NE\, 68665\, United States
CATEGORIES:Community Event
END:VEVENT
BEGIN:VEVENT
DTSTART;TZID=America/Chicago:20251231T110000
DTEND;TZID=America/Chicago:20251231T120000
DTSTAMP:20260420T200712
CREATED:20251204T205106Z
LAST-MODIFIED:20251204T205106Z
UID:2440-1767178800-1767182400@spaldingne.com
SUMMARY:SNC Lunch: Ham Loaf
DESCRIPTION:Ham Loaf \nSweet Potatoes \nMixed Vegetables \nFrosted Sugar Cookies
URL:https://spaldingne.com/event/snc-lunch-ham-loaf-3/
LOCATION:Spalding Nutrition Center\, 150 S. Elm Street
CATEGORIES:Spalding Nutrition Center Lunch
END:VEVENT
BEGIN:VEVENT
DTSTART;TZID=America/Chicago:20251229T110000
DTEND;TZID=America/Chicago:20251229T120000
DTSTAMP:20260420T200712
CREATED:20251204T205004Z
LAST-MODIFIED:20251204T205004Z
UID:2438-1767006000-1767009600@spaldingne.com
SUMMARY:SNC Lunch: Chili Soup
DESCRIPTION:Chili Soup \nCheese & Crackers \nChocolate Pudding \nCinnamon Rolls
URL:https://spaldingne.com/event/snc-lunch-chili-soup-3/
LOCATION:Spalding Nutrition Center\, 150 S. Elm Street
CATEGORIES:Spalding Nutrition Center Lunch
END:VEVENT
BEGIN:VEVENT
DTSTART;VALUE=DATE:20251225
DTEND;VALUE=DATE:20251226
DTSTAMP:20260420T200712
CREATED:20251001T022615Z
LAST-MODIFIED:20251001T022615Z
UID:2190-1766620800-1766707199@spaldingne.com
SUMMARY:Christmas
DESCRIPTION:
URL:https://spaldingne.com/event/christmas/
END:VEVENT
BEGIN:VEVENT
DTSTART;TZID=America/Chicago:20251223T110000
DTEND;TZID=America/Chicago:20251223T120000
DTSTAMP:20260420T200712
CREATED:20251204T202344Z
LAST-MODIFIED:20251204T202344Z
UID:2436-1766487600-1766491200@spaldingne.com
SUMMARY:SNC Lunch: French Dip Sandwich
DESCRIPTION:French Dip Sandwich \nHashbrowns \nCorn \nFrosted Sugar Cookies
URL:https://spaldingne.com/event/snc-lunch-french-dip-sandwich-4/
LOCATION:Spalding Nutrition Center\, 150 S. Elm Street
CATEGORIES:Spalding Nutrition Center Lunch
END:VEVENT
BEGIN:VEVENT
DTSTART;TZID=America/Chicago:20251222T110000
DTEND;TZID=America/Chicago:20251222T120000
DTSTAMP:20260420T200712
CREATED:20251204T202035Z
LAST-MODIFIED:20251204T202035Z
UID:2434-1766401200-1766404800@spaldingne.com
SUMMARY:SNC Lunch: Spaghetti w/ Meat Sauce
DESCRIPTION:Spaghetti w/ Meat Sauce \nLettuce Salad \nApplesauce \nBreadsticks
URL:https://spaldingne.com/event/snc-lunch-spaghetti-w-meat-sauce-3/
LOCATION:Spalding Nutrition Center\, 150 S. Elm Street
CATEGORIES:Spalding Nutrition Center Lunch
END:VEVENT
BEGIN:VEVENT
DTSTART;TZID=America/Chicago:20251221T190000
DTEND;TZID=America/Chicago:20251221T200000
DTSTAMP:20260420T200712
CREATED:20251125T183503Z
LAST-MODIFIED:20251125T183503Z
UID:2400-1766343600-1766347200@spaldingne.com
SUMMARY:Living Nativity
DESCRIPTION:Come join us for the Reason for the Season. A short Nativity play will be put on by area children. Enjoy Hot Chocolate and Cookies after the program.
URL:https://spaldingne.com/event/living-nativity/
LOCATION:Mini Barnyard Friends\, 50687 819th rd\, Spalding\, NE\, 68665\, United States
CATEGORIES:Community Event
ATTACH;FMTTYPE=image/jpeg:https://spaldingne.com/wp-content/uploads/2025/11/living-nativity.jpg
ORGANIZER;CN="Mini Barnyard Friend":MAILTO:minibarnyardfriends@gmail.com
END:VEVENT
BEGIN:VEVENT
DTSTART;TZID=America/Chicago:20251220T190000
DTEND;TZID=America/Chicago:20251220T233000
DTSTAMP:20260420T200712
CREATED:20251113T190741Z
LAST-MODIFIED:20251125T182602Z
UID:2336-1766257200-1766273400@spaldingne.com
SUMMARY:Ugly Sweater Party + Beer Pong Tournament
DESCRIPTION:Prizes in many categories\, including most creative\, best overall\, and best couple! Judging at 11 pm. \nAnnual Beer Pong Tournament starting at 7 pm – Sign up at Sidewinders Saloon.
URL:https://spaldingne.com/event/ugly-sweater-party/
LOCATION:Sidewinders Saloon\, 166 W St Joseph St\, Spalding\, NE\, 68665\, United States
CATEGORIES:Community Event
END:VEVENT
BEGIN:VEVENT
DTSTART;TZID=America/Chicago:20251219T110000
DTEND;TZID=America/Chicago:20251219T120000
DTSTAMP:20260420T200712
CREATED:20251204T201941Z
LAST-MODIFIED:20251204T201941Z
UID:2432-1766142000-1766145600@spaldingne.com
SUMMARY:SNC Lunch: Beef & Noodles
DESCRIPTION:Beef & Noodles \n3-Bean Salad \nVanilla Pudding \nMuffins
URL:https://spaldingne.com/event/snc-lunch-beef-noodles-4/
LOCATION:Spalding Nutrition Center\, 150 S. Elm Street
CATEGORIES:Spalding Nutrition Center Lunch
END:VEVENT
BEGIN:VEVENT
DTSTART;TZID=America/Chicago:20251218T110000
DTEND;TZID=America/Chicago:20251218T120000
DTSTAMP:20260420T200712
CREATED:20251204T201852Z
LAST-MODIFIED:20251204T201852Z
UID:2430-1766055600-1766059200@spaldingne.com
SUMMARY:SNC Lunch: Christmas Dinner
DESCRIPTION:Christmas Dinner! \nTurkey & Dressing \nMashed Pot. & Gravy \nGreen Bean Casserole \nCranberry Salad \nPumpkin Dessert & Rolls
URL:https://spaldingne.com/event/snc-lunch-christmas-dinner/
LOCATION:Spalding Nutrition Center\, 150 S. Elm Street
CATEGORIES:Spalding Nutrition Center Lunch
END:VEVENT
BEGIN:VEVENT
DTSTART;TZID=America/Chicago:20251217T110000
DTEND;TZID=America/Chicago:20251217T120000
DTSTAMP:20260420T200712
CREATED:20251204T200905Z
LAST-MODIFIED:20251204T200905Z
UID:2428-1765969200-1765972800@spaldingne.com
SUMMARY:SNC Lunch: Polish Sausage
DESCRIPTION:Polish Sausage \nSauerkraut \nScalloped Potatoes \nBaked Beans \nPears
URL:https://spaldingne.com/event/snc-lunch-polish-sausage-4/
LOCATION:Spalding Nutrition Center\, 150 S. Elm Street
CATEGORIES:Spalding Nutrition Center Lunch
END:VEVENT
BEGIN:VEVENT
DTSTART;TZID=America/Chicago:20251215T110000
DTEND;TZID=America/Chicago:20251215T120000
DTSTAMP:20260420T200712
CREATED:20251204T200737Z
LAST-MODIFIED:20251204T200737Z
UID:2426-1765796400-1765800000@spaldingne.com
SUMMARY:SNC Lunch: Tater Tot Casserole
DESCRIPTION:Tater Tot Casserole \nMixed Vegetables \nPears \nHawaiian Dinner Rolls \n 
URL:https://spaldingne.com/event/snc-lunch-tater-tot-casserole-4/
LOCATION:Spalding Nutrition Center\, 150 S. Elm Street
CATEGORIES:Spalding Nutrition Center Lunch
END:VEVENT
BEGIN:VEVENT
DTSTART;TZID=America/Chicago:20251212T110000
DTEND;TZID=America/Chicago:20251212T120000
DTSTAMP:20260420T200712
CREATED:20251204T200641Z
LAST-MODIFIED:20251204T200641Z
UID:2424-1765537200-1765540800@spaldingne.com
SUMMARY:SNC Lunch: Lasagna
DESCRIPTION:Lasagna \nCole Slaw \nChocolate Pudding \nGarlic Bread
URL:https://spaldingne.com/event/snc-lunch-lasagna-5/
LOCATION:Spalding Nutrition Center\, 150 S. Elm Street
CATEGORIES:Spalding Nutrition Center Lunch
END:VEVENT
END:VCALENDAR