BEGIN:VCALENDAR
VERSION:2.0
PRODID:-//Spalding, Nebraska - ECPv6.15.20//NONSGML v1.0//EN
CALSCALE:GREGORIAN
METHOD:PUBLISH
X-ORIGINAL-URL:https://spaldingne.com
X-WR-CALDESC:Events for Spalding, Nebraska
REFRESH-INTERVAL;VALUE=DURATION:PT1H
X-Robots-Tag:noindex
X-PUBLISHED-TTL:PT1H
BEGIN:VTIMEZONE
TZID:America/Chicago
BEGIN:DAYLIGHT
TZOFFSETFROM:-0600
TZOFFSETTO:-0500
TZNAME:CDT
DTSTART:20250309T080000
END:DAYLIGHT
BEGIN:STANDARD
TZOFFSETFROM:-0500
TZOFFSETTO:-0600
TZNAME:CST
DTSTART:20251102T070000
END:STANDARD
BEGIN:DAYLIGHT
TZOFFSETFROM:-0600
TZOFFSETTO:-0500
TZNAME:CDT
DTSTART:20260308T080000
END:DAYLIGHT
BEGIN:STANDARD
TZOFFSETFROM:-0500
TZOFFSETTO:-0600
TZNAME:CST
DTSTART:20261101T070000
END:STANDARD
BEGIN:DAYLIGHT
TZOFFSETFROM:-0600
TZOFFSETTO:-0500
TZNAME:CDT
DTSTART:20270314T080000
END:DAYLIGHT
BEGIN:STANDARD
TZOFFSETFROM:-0500
TZOFFSETTO:-0600
TZNAME:CST
DTSTART:20271107T070000
END:STANDARD
END:VTIMEZONE
BEGIN:VEVENT
DTSTART;TZID=America/Chicago:20260406T100000
DTEND;TZID=America/Chicago:20260406T120000
DTSTAMP:20260419T135839
CREATED:20260414T190551Z
LAST-MODIFIED:20260414T190551Z
UID:2703-1775469600-1775476800@spaldingne.com
SUMMARY:SNC Lunch: Creamed Chicken over Biscuits
DESCRIPTION:Creamed Chicken over Biscuits\nWaldorf Salad\nMixed Vegetables\n\nDid you know you do not have to be 60+ to enjoy a meal at the Senior Center? \nAnyone under 60 is welcome to receive a delicious\, nutritious meal for just $9.00. You can dine in or get it to go! \nHow to order: \n\nCall 308-497-2722\nPlease try to call by 10:00 AM so we can be sure to prepare enough food for everyone.\nLet us know if you’ll be dining in or picking up a to-go meal.
URL:https://spaldingne.com/event/snc-lunch-creamed-chicken-over-biscuits/
LOCATION:Spalding Nutrition Center\, 150 S. Elm Street
CATEGORIES:Spalding Nutrition Center Lunch
END:VEVENT
BEGIN:VEVENT
DTSTART;TZID=America/Chicago:20260408T100000
DTEND;TZID=America/Chicago:20260408T120000
DTSTAMP:20260419T135839
CREATED:20260414T190643Z
LAST-MODIFIED:20260414T190643Z
UID:2705-1775642400-1775649600@spaldingne.com
SUMMARY:SNC Lunch: French Dip Sandwich
DESCRIPTION:French Dip Sandwich\nHash browns\nGreen beans\nButterscotch pudding\n\nDid you know you do not have to be 60+ to enjoy a meal at the Senior Center? \nAnyone under 60 is welcome to receive a delicious\, nutritious meal for just $9.00. You can dine in or get it to go! \nHow to order: \n\nCall 308-497-2722\nPlease try to call by 10:00 AM so we can be sure to prepare enough food for everyone.\nLet us know if you’ll be dining in or picking up a to-go meal.
URL:https://spaldingne.com/event/snc-lunch-french-dip-sandwich-6/
LOCATION:Spalding Nutrition Center\, 150 S. Elm Street
CATEGORIES:Spalding Nutrition Center Lunch
END:VEVENT
BEGIN:VEVENT
DTSTART;TZID=America/Chicago:20260409T100000
DTEND;TZID=America/Chicago:20260409T120000
DTSTAMP:20260419T135839
CREATED:20260414T190749Z
LAST-MODIFIED:20260414T190749Z
UID:2707-1775728800-1775736000@spaldingne.com
SUMMARY:SNC Lunch: Oven Fried Chicken
DESCRIPTION:Oven Fried Chicken\nMashed potatoes & gravy\nGlazed Carrots\nJell-O w/ Fruit\nDinner rolls\n\nDid you know you do not have to be 60+ to enjoy a meal at the Senior Center? \nAnyone under 60 is welcome to receive a delicious\, nutritious meal for just $9.00. You can dine in or get it to go! \nHow to order: \n\nCall 308-497-2722\nPlease try to call by 10:00 AM so we can be sure to prepare enough food for everyone.\nLet us know if you’ll be dining in or picking up a to-go meal.
URL:https://spaldingne.com/event/snc-lunch-oven-fried-chicken-13/
LOCATION:Spalding Nutrition Center\, 150 S. Elm Street
CATEGORIES:Spalding Nutrition Center Lunch
END:VEVENT
BEGIN:VEVENT
DTSTART;TZID=America/Chicago:20260410T100000
DTEND;TZID=America/Chicago:20260410T120000
DTSTAMP:20260419T135839
CREATED:20260414T190853Z
LAST-MODIFIED:20260414T190853Z
UID:2709-1775815200-1775822400@spaldingne.com
SUMMARY:SNC Lunch: Seafood Lasagna
DESCRIPTION:Seafood Lasagna\nCauliflower w/ Cheese\nFruit cocktail\nGarlic bread\n\nDid you know you do not have to be 60+ to enjoy a meal at the Senior Center? \nAnyone under 60 is welcome to receive a delicious\, nutritious meal for just $9.00. You can dine in or get it to go! \nHow to order: \n\nCall 308-497-2722\nPlease try to call by 10:00 AM so we can be sure to prepare enough food for everyone.\nLet us know if you’ll be dining in or picking up a to-go meal.
URL:https://spaldingne.com/event/snc-lunch-seafood-lasagna/
LOCATION:Spalding Nutrition Center\, 150 S. Elm Street
CATEGORIES:Spalding Nutrition Center Lunch
END:VEVENT
BEGIN:VEVENT
DTSTART;TZID=America/Chicago:20260413T100000
DTEND;TZID=America/Chicago:20260413T120000
DTSTAMP:20260419T135839
CREATED:20260414T191117Z
LAST-MODIFIED:20260414T191117Z
UID:2711-1776074400-1776081600@spaldingne.com
SUMMARY:SNC Lunch: Chicken Spaghetti
DESCRIPTION:Chicken Spaghetti\nCaribbean blend vegetable\nChocolate pudding\nBreadsticks\n\nDid you know you do not have to be 60+ to enjoy a meal at the Senior Center? \nAnyone under 60 is welcome to receive a delicious\, nutritious meal for just $9.00. You can dine in or get it to go! \nHow to order: \n\nCall 308-497-2722\nPlease try to call by 10:00 AM so we can be sure to prepare enough food for everyone.\nLet us know if you’ll be dining in or picking up a to-go meal.
URL:https://spaldingne.com/event/snc-lunch-chicken-spaghetti-4/
LOCATION:Spalding Nutrition Center\, 150 S. Elm Street
CATEGORIES:Spalding Nutrition Center Lunch
END:VEVENT
BEGIN:VEVENT
DTSTART;TZID=America/Chicago:20260415T100000
DTEND;TZID=America/Chicago:20260415T120000
DTSTAMP:20260419T135839
CREATED:20260414T191209Z
LAST-MODIFIED:20260414T191209Z
UID:2713-1776247200-1776254400@spaldingne.com
SUMMARY:SNC Lunch: Meatloaf
DESCRIPTION:Meatloaf\nScalloped potatoes\nBaked beans\nTropical fruit\n\nDid you know you do not have to be 60+ to enjoy a meal at the Senior Center? \nAnyone under 60 is welcome to receive a delicious\, nutritious meal for just $9.00. You can dine in or get it to go! \nHow to order: \n\nCall 308-497-2722\nPlease try to call by 10:00 AM so we can be sure to prepare enough food for everyone.\nLet us know if you’ll be dining in or picking up a to-go meal.
URL:https://spaldingne.com/event/snc-lunch-meatloaf-6/
LOCATION:Spalding Nutrition Center\, 150 S. Elm Street
CATEGORIES:Spalding Nutrition Center Lunch
END:VEVENT
BEGIN:VEVENT
DTSTART;TZID=America/Chicago:20260416T100000
DTEND;TZID=America/Chicago:20260416T120000
DTSTAMP:20260419T135839
CREATED:20260414T191340Z
LAST-MODIFIED:20260414T191340Z
UID:2715-1776333600-1776340800@spaldingne.com
SUMMARY:SNC Lunch: Pork Roast
DESCRIPTION:Pork Roast\nMashed potatoes & gravy\nbrussels sprouts w/ carrots\ndessert\ndinner rolls\n\nDid you know you do not have to be 60+ to enjoy a meal at the Senior Center? \nAnyone under 60 is welcome to receive a delicious\, nutritious meal for just $9.00. You can dine in or get it to go! \nHow to order: \n\nCall 308-497-2722\nPlease try to call by 10:00 AM so we can be sure to prepare enough food for everyone.\nLet us know if you’ll be dining in or picking up a to-go meal.
URL:https://spaldingne.com/event/snc-lunch-pork-roast-6/
LOCATION:Spalding Nutrition Center\, 150 S. Elm Street
CATEGORIES:Spalding Nutrition Center Lunch
END:VEVENT
BEGIN:VEVENT
DTSTART;TZID=America/Chicago:20260417T100000
DTEND;TZID=America/Chicago:20260417T120000
DTSTAMP:20260419T135839
CREATED:20260414T191447Z
LAST-MODIFIED:20260414T191447Z
UID:2717-1776420000-1776427200@spaldingne.com
SUMMARY:SNC Lunch: Teriyaki Chicken
DESCRIPTION:Teriyaki Chicken\nRice\nBroccoli\nJell-O w/ fruit\nFried bread\n\nDid you know you do not have to be 60+ to enjoy a meal at the Senior Center? \nAnyone under 60 is welcome to receive a delicious\, nutritious meal for just $9.00. You can dine in or get it to go! \nHow to order: \n\nCall 308-497-2722\nPlease try to call by 10:00 AM so we can be sure to prepare enough food for everyone.\nLet us know if you’ll be dining in or picking up a to-go meal.
URL:https://spaldingne.com/event/snc-lunch-teriyaki-chicken/
LOCATION:Spalding Nutrition Center\, 150 S. Elm Street
CATEGORIES:Spalding Nutrition Center Lunch
END:VEVENT
BEGIN:VEVENT
DTSTART;TZID=America/Chicago:20260418T180000
DTEND;TZID=America/Chicago:20260418T193000
DTSTAMP:20260419T135839
CREATED:20260414T193540Z
LAST-MODIFIED:20260414T193540Z
UID:2739-1776535200-1776540600@spaldingne.com
SUMMARY:Spaghetti Feed - Benefit for Baby Schneider
DESCRIPTION:
URL:https://spaldingne.com/event/spaghetti-feed-benefit-for-baby-schneider/
LOCATION:Parish Center\, Spalding\, NE
CATEGORIES:Community Event
END:VEVENT
BEGIN:VEVENT
DTSTART;TZID=America/Chicago:20260420T100000
DTEND;TZID=America/Chicago:20260420T120000
DTSTAMP:20260419T135839
CREATED:20260414T191625Z
LAST-MODIFIED:20260414T191625Z
UID:2719-1776679200-1776686400@spaldingne.com
SUMMARY:SNC Lunch: Ham
DESCRIPTION:Ham\nSweet Potatoes\nMixed vegetables\nCorn bread\n\nDid you know you do not have to be 60+ to enjoy a meal at the Senior Center? \nAnyone under 60 is welcome to receive a delicious\, nutritious meal for just $9.00. You can dine in or get it to go! \nHow to order: \n\nCall 308-497-2722\nPlease try to call by 10:00 AM so we can be sure to prepare enough food for everyone.\nLet us know if you’ll be dining in or picking up a to-go meal.
URL:https://spaldingne.com/event/snc-lunch-ham-4/
LOCATION:Spalding Nutrition Center\, 150 S. Elm Street
CATEGORIES:Spalding Nutrition Center Lunch
END:VEVENT
BEGIN:VEVENT
DTSTART;TZID=America/Chicago:20260422T100000
DTEND;TZID=America/Chicago:20260422T120000
DTSTAMP:20260419T135840
CREATED:20260414T191728Z
LAST-MODIFIED:20260414T191728Z
UID:2721-1776852000-1776859200@spaldingne.com
SUMMARY:SNC Lunch: Hot Beef Sandwich
DESCRIPTION:Hot beef sandwich\nMashed potatoes w/ gravy\nCalifornia blend vegetables\nVanilla pudding\n\nDid you know you do not have to be 60+ to enjoy a meal at the Senior Center? \nAnyone under 60 is welcome to receive a delicious\, nutritious meal for just $9.00. You can dine in or get it to go! \nHow to order: \n\nCall 308-497-2722\nPlease try to call by 10:00 AM so we can be sure to prepare enough food for everyone.\nLet us know if you’ll be dining in or picking up a to-go meal.
URL:https://spaldingne.com/event/snc-lunch-hot-beef-sandwich-2/
LOCATION:Spalding Nutrition Center\, 150 S. Elm Street
CATEGORIES:Spalding Nutrition Center Lunch
END:VEVENT
BEGIN:VEVENT
DTSTART;TZID=America/Chicago:20260423T100000
DTEND;TZID=America/Chicago:20260423T120000
DTSTAMP:20260419T135840
CREATED:20260414T191901Z
LAST-MODIFIED:20260414T191901Z
UID:2723-1776938400-1776945600@spaldingne.com
SUMMARY:SNC Lunch: Oven Fried Chicken
DESCRIPTION:Oven Fried Chicken\nMashed potatoes & gravy\nCorn\nCookies/bars\nDinner rolls\n\nDid you know you do not have to be 60+ to enjoy a meal at the Senior Center? \nAnyone under 60 is welcome to receive a delicious\, nutritious meal for just $9.00. You can dine in or get it to go! \nHow to order: \n\nCall 308-497-2722\nPlease try to call by 10:00 AM so we can be sure to prepare enough food for everyone.\nLet us know if you’ll be dining in or picking up a to-go meal.
URL:https://spaldingne.com/event/snc-lunch-oven-fried-chicken-14/
LOCATION:Spalding Nutrition Center\, 150 S. Elm Street
CATEGORIES:Spalding Nutrition Center Lunch
END:VEVENT
BEGIN:VEVENT
DTSTART;TZID=America/Chicago:20260424T100000
DTEND;TZID=America/Chicago:20260424T120000
DTSTAMP:20260419T135840
CREATED:20260414T192138Z
LAST-MODIFIED:20260414T192138Z
UID:2725-1777024800-1777032000@spaldingne.com
SUMMARY:SNC Lunch: Lasagna
DESCRIPTION:Lasagna\nColeslaw\nApplesauce\nGarlic bread\n\nDid you know you do not have to be 60+ to enjoy a meal at the Senior Center? \nAnyone under 60 is welcome to receive a delicious\, nutritious meal for just $9.00. You can dine in or get it to go! \nHow to order: \n\nCall 308-497-2722\nPlease try to call by 10:00 AM so we can be sure to prepare enough food for everyone.\nLet us know if you’ll be dining in or picking up a to-go meal.
URL:https://spaldingne.com/event/snc-lunch-lasagna-6/
LOCATION:Spalding Nutrition Center\, 150 S. Elm Street
CATEGORIES:Spalding Nutrition Center Lunch
END:VEVENT
BEGIN:VEVENT
DTSTART;TZID=America/Chicago:20260426T140000
DTEND;TZID=America/Chicago:20260426T170000
DTSTAMP:20260419T135840
CREATED:20260414T193226Z
LAST-MODIFIED:20260414T193226Z
UID:2737-1777212000-1777222800@spaldingne.com
SUMMARY:Mini Barnyard Friends Birthday Party
DESCRIPTION:Free Cotton Candy w/ $5 admission \n3 yrs and under are free \nCome see the baby animals. games & activities
URL:https://spaldingne.com/event/mini-barnyard-friends-birthday-party/
LOCATION:Mini Barnyard Friends\, 50687 819th rd\, Spalding\, NE\, 68665\, United States
CATEGORIES:Community Event
ORGANIZER;CN="Mini Barnyard Friend":MAILTO:minibarnyardfriends@gmail.com
END:VEVENT
BEGIN:VEVENT
DTSTART;TZID=America/Chicago:20260427T100000
DTEND;TZID=America/Chicago:20260427T120000
DTSTAMP:20260419T135840
CREATED:20260414T192227Z
LAST-MODIFIED:20260414T192227Z
UID:2727-1777284000-1777291200@spaldingne.com
SUMMARY:SNC Lunch: Shephard's Pie
DESCRIPTION:Shephard’s Pie\nCarrot & celery sticks\nHarvard beets\nPeaches\n\nDid you know you do not have to be 60+ to enjoy a meal at the Senior Center? \nAnyone under 60 is welcome to receive a delicious\, nutritious meal for just $9.00. You can dine in or get it to go! \nHow to order: \n\nCall 308-497-2722\nPlease try to call by 10:00 AM so we can be sure to prepare enough food for everyone.\nLet us know if you’ll be dining in or picking up a to-go meal.
URL:https://spaldingne.com/event/snc-lunch-shephards-pie/
LOCATION:Spalding Nutrition Center\, 150 S. Elm Street
CATEGORIES:Spalding Nutrition Center Lunch
END:VEVENT
BEGIN:VEVENT
DTSTART;TZID=America/Chicago:20260428T080000
DTEND;TZID=America/Chicago:20260428T130000
DTSTAMP:20260419T135840
CREATED:20260414T192957Z
LAST-MODIFIED:20260414T192957Z
UID:2733-1777363200-1777381200@spaldingne.com
SUMMARY:Poppy Day
DESCRIPTION:Come out and support our local veterans. \nBuy a slice of pie\, or the whole thing. Cinnamon rolls and coffee\, too. \n 
URL:https://spaldingne.com/event/poppy-day/
LOCATION:American Legion
CATEGORIES:Community Event
END:VEVENT
BEGIN:VEVENT
DTSTART;TZID=America/Chicago:20260429T100000
DTEND;TZID=America/Chicago:20260429T120000
DTSTAMP:20260419T135840
CREATED:20260414T192322Z
LAST-MODIFIED:20260414T192322Z
UID:2729-1777456800-1777464000@spaldingne.com
SUMMARY:SNC Lunch: Salisbury Steak
DESCRIPTION:Salisbury Steak\nBaked potato\nCalifornia Blend Vegetable\nButterscotch pudding\n\nDid you know you do not have to be 60+ to enjoy a meal at the Senior Center? \nAnyone under 60 is welcome to receive a delicious\, nutritious meal for just $9.00. You can dine in or get it to go! \nHow to order: \n\nCall 308-497-2722\nPlease try to call by 10:00 AM so we can be sure to prepare enough food for everyone.\nLet us know if you’ll be dining in or picking up a to-go meal.
URL:https://spaldingne.com/event/snc-lunch-salisbury-steak-5/
LOCATION:Spalding Nutrition Center\, 150 S. Elm Street
CATEGORIES:Spalding Nutrition Center Lunch
END:VEVENT
BEGIN:VEVENT
DTSTART;TZID=America/Chicago:20260430T100000
DTEND;TZID=America/Chicago:20260430T120000
DTSTAMP:20260419T135840
CREATED:20260414T192417Z
LAST-MODIFIED:20260414T192417Z
UID:2731-1777543200-1777550400@spaldingne.com
SUMMARY:SNC Lunch: Chicken Fried Steak
DESCRIPTION:Chicken Fried Steak\nMashed potatoes & gravy\nCorn\nDessert\nDinner rolls\n\nDid you know you do not have to be 60+ to enjoy a meal at the Senior Center? \nAnyone under 60 is welcome to receive a delicious\, nutritious meal for just $9.00. You can dine in or get it to go! \nHow to order: \n\nCall 308-497-2722\nPlease try to call by 10:00 AM so we can be sure to prepare enough food for everyone.\nLet us know if you’ll be dining in or picking up a to-go meal.
URL:https://spaldingne.com/event/snc-lunch-chicken-fried-steak-3/
LOCATION:Spalding Nutrition Center\, 150 S. Elm Street
CATEGORIES:Spalding Nutrition Center Lunch
END:VEVENT
END:VCALENDAR