BEGIN:VCALENDAR
VERSION:2.0
PRODID:-//Spalding, Nebraska - ECPv6.15.20//NONSGML v1.0//EN
CALSCALE:GREGORIAN
METHOD:PUBLISH
X-WR-CALNAME:Spalding, Nebraska
X-ORIGINAL-URL:https://spaldingne.com
X-WR-CALDESC:Events for Spalding, Nebraska
REFRESH-INTERVAL;VALUE=DURATION:PT1H
X-Robots-Tag:noindex
X-PUBLISHED-TTL:PT1H
BEGIN:VTIMEZONE
TZID:America/Chicago
BEGIN:DAYLIGHT
TZOFFSETFROM:-0600
TZOFFSETTO:-0500
TZNAME:CDT
DTSTART:20250309T080000
END:DAYLIGHT
BEGIN:STANDARD
TZOFFSETFROM:-0500
TZOFFSETTO:-0600
TZNAME:CST
DTSTART:20251102T070000
END:STANDARD
BEGIN:DAYLIGHT
TZOFFSETFROM:-0600
TZOFFSETTO:-0500
TZNAME:CDT
DTSTART:20260308T080000
END:DAYLIGHT
BEGIN:STANDARD
TZOFFSETFROM:-0500
TZOFFSETTO:-0600
TZNAME:CST
DTSTART:20261101T070000
END:STANDARD
BEGIN:DAYLIGHT
TZOFFSETFROM:-0600
TZOFFSETTO:-0500
TZNAME:CDT
DTSTART:20270314T080000
END:DAYLIGHT
BEGIN:STANDARD
TZOFFSETFROM:-0500
TZOFFSETTO:-0600
TZNAME:CST
DTSTART:20271107T070000
END:STANDARD
END:VTIMEZONE
BEGIN:VEVENT
DTSTART;TZID=America/Chicago:20260406T100000
DTEND;TZID=America/Chicago:20260406T120000
DTSTAMP:20260419T234532
CREATED:20260414T190551Z
LAST-MODIFIED:20260414T190551Z
UID:2703-1775469600-1775476800@spaldingne.com
SUMMARY:SNC Lunch: Creamed Chicken over Biscuits
DESCRIPTION:Creamed Chicken over Biscuits\nWaldorf Salad\nMixed Vegetables\n\nDid you know you do not have to be 60+ to enjoy a meal at the Senior Center? \nAnyone under 60 is welcome to receive a delicious\, nutritious meal for just $9.00. You can dine in or get it to go! \nHow to order: \n\nCall 308-497-2722\nPlease try to call by 10:00 AM so we can be sure to prepare enough food for everyone.\nLet us know if you’ll be dining in or picking up a to-go meal.
URL:https://spaldingne.com/event/snc-lunch-creamed-chicken-over-biscuits/
LOCATION:Spalding Nutrition Center\, 150 S. Elm Street
CATEGORIES:Spalding Nutrition Center Lunch
END:VEVENT
BEGIN:VEVENT
DTSTART;TZID=America/Chicago:20260403T100000
DTEND;TZID=America/Chicago:20260403T120000
DTSTAMP:20260419T234532
CREATED:20260414T190442Z
LAST-MODIFIED:20260414T190442Z
UID:2701-1775210400-1775217600@spaldingne.com
SUMMARY:SNC Lunch: Tuna & Noodles
DESCRIPTION:Tuna & Noodles\nPeas\nMandarin Orange Salad\nFrosted Sugar Cookies\n\nDid you know you do not have to be 60+ to enjoy a meal at the Senior Center? \nAnyone under 60 is welcome to receive a delicious\, nutritious meal for just $9.00. You can dine in or get it to go! \nHow to order: \n\nCall 308-497-2722\nPlease try to call by 10:00 AM so we can be sure to prepare enough food for everyone.\nLet us know if you’ll be dining in or picking up a to-go meal.
URL:https://spaldingne.com/event/snc-lunch-tuna-noodles/
LOCATION:Spalding Nutrition Center\, 150 S. Elm Street
CATEGORIES:Spalding Nutrition Center Lunch
END:VEVENT
BEGIN:VEVENT
DTSTART;TZID=America/Chicago:20260402T100000
DTEND;TZID=America/Chicago:20260402T120000
DTSTAMP:20260419T234532
CREATED:20260414T190329Z
LAST-MODIFIED:20260414T190329Z
UID:2698-1775124000-1775131200@spaldingne.com
SUMMARY:SNC Lunch: Roast Beef
DESCRIPTION:Roast Beef\nMashed Pot. & Gravy\nCorn\nFruit Cocktail\nDinner Rolls\n\nDid you know you do not have to be 60+ to enjoy a meal at the Senior Center? \nAnyone under 60 is welcome to receive a delicious\, nutritious meal for just $9.00. You can dine in or get it to go! \nHow to order: \n\nCall 308-497-2722\nPlease try to call by 10:00 AM so we can be sure to prepare enough food for everyone.\nLet us know if you’ll be dining in or picking up a to-go meal.
URL:https://spaldingne.com/event/snc-lunch-roast-beef-6/
LOCATION:Spalding Nutrition Center\, 150 S. Elm Street
CATEGORIES:Spalding Nutrition Center Lunch
END:VEVENT
BEGIN:VEVENT
DTSTART;TZID=America/Chicago:20260401T100000
DTEND;TZID=America/Chicago:20260401T120000
DTSTAMP:20260419T234532
CREATED:20260414T190201Z
LAST-MODIFIED:20260414T190201Z
UID:2696-1775037600-1775044800@spaldingne.com
SUMMARY:SNC Lunch: Chicken Wings
DESCRIPTION:Chicken wings only\nbaked potato\nCalifornia blend veg.\nvanilla pudding\n\nDid you know you do not have to be 60+ to enjoy a meal at the Senior Center? \nAnyone under 60 is welcome to receive a delicious\, nutritious meal for just $9.00. You can dine in or get it to go! \nHow to order: \n\nCall 308-497-2722\nPlease try to call by 10:00 AM so we can be sure to prepare enough food for everyone.\nLet us know if you’ll be dining in or picking up a to-go meal.
URL:https://spaldingne.com/event/snc-lunch-chicken-wings/
LOCATION:Spalding Nutrition Center\, 150 S. Elm Street
CATEGORIES:Spalding Nutrition Center Lunch
END:VEVENT
BEGIN:VEVENT
DTSTART;TZID=America/Chicago:20260330T100000
DTEND;TZID=America/Chicago:20260330T113000
DTSTAMP:20260419T234532
CREATED:20260304T182503Z
LAST-MODIFIED:20260304T182503Z
UID:2639-1774864800-1774870200@spaldingne.com
SUMMARY:SNC Lunch: Barbecue Pork Chops
DESCRIPTION:Barbecue Pork Chops\nScalloped Potatoes\nBaked Beans\nPears\n\nDid you know you do not have to be 60+ to enjoy a meal at the Senior Center? \nAnyone under 60 is welcome to receive a delicious\, nutritious meal for just $9.00. You can dine in or get it to go! \nHow to order: \n\nCall 308-497-2722\nPlease try to call by 10:00 AM so we can be sure to prepare enough food for everyone.\nLet us know if you’ll be dining in or picking up a to-go meal.
URL:https://spaldingne.com/event/snc-lunch-barbecue-pork-chops/
LOCATION:Spalding Nutrition Center\, 150 S. Elm Street
CATEGORIES:Spalding Nutrition Center Lunch
END:VEVENT
BEGIN:VEVENT
DTSTART;TZID=America/Chicago:20260329T140000
DTEND;TZID=America/Chicago:20260329T140000
DTSTAMP:20260419T234532
CREATED:20260304T183319Z
LAST-MODIFIED:20260304T183319Z
UID:2644-1774792800-1774792800@spaldingne.com
SUMMARY:Puzzle Challenge & Swap
DESCRIPTION:This will be held in the Loft of the big red barn.Team of 4 adults is $40 for a 500 piece puzzle.Team of 4 kids under 12 is $20 for a 300 piece puzzle.Prizes for 1st place in each division.Snacks provided. Bring your own drinks.Bring unwanted puzzles to swap.Register by March 22 by calling 308-750-4667
URL:https://spaldingne.com/event/puzzle-challenge-swap/
LOCATION:Mini Barnyard Friends\, 50687 819th rd\, Spalding\, NE\, 68665\, United States
CATEGORIES:Community Event
ORGANIZER;CN="Mini Barnyard Friend":MAILTO:minibarnyardfriends@gmail.com
END:VEVENT
BEGIN:VEVENT
DTSTART;TZID=America/Chicago:20260327T100000
DTEND;TZID=America/Chicago:20260327T113000
DTSTAMP:20260419T234532
CREATED:20260304T182353Z
LAST-MODIFIED:20260304T182353Z
UID:2637-1774605600-1774611000@spaldingne.com
SUMMARY:SNC Lunch: Cheesy Broccoli Soup
DESCRIPTION:Cheesy Broccoli Soup\nBaked Fish\nCrackers\nPears\n\nDid you know you do not have to be 60+ to enjoy a meal at the Senior Center? \nAnyone under 60 is welcome to receive a delicious\, nutritious meal for just $9.00. You can dine in or get it to go! \nHow to order: \n\nCall 308-497-2722\nPlease try to call by 10:00 AM so we can be sure to prepare enough food for everyone.\nLet us know if you’ll be dining in or picking up a to-go meal.
URL:https://spaldingne.com/event/snc-lunch-cheesy-broccoli-soup/
LOCATION:Spalding Nutrition Center\, 150 S. Elm Street
CATEGORIES:Spalding Nutrition Center Lunch
END:VEVENT
BEGIN:VEVENT
DTSTART;TZID=America/Chicago:20260326T100000
DTEND;TZID=America/Chicago:20260326T113000
DTSTAMP:20260419T234532
CREATED:20260304T182304Z
LAST-MODIFIED:20260304T182304Z
UID:2635-1774519200-1774524600@spaldingne.com
SUMMARY:SNC Lunch: Oven Fried Chicken
DESCRIPTION:Oven Fried Chicken\nMashed Pot. & Gravy\nCorn\nCookies/Bars\nDinner Rolls\n\nDid you know you do not have to be 60+ to enjoy a meal at the Senior Center? \nAnyone under 60 is welcome to receive a delicious\, nutritious meal for just $9.00. You can dine in or get it to go! \nHow to order: \n\nCall 308-497-2722\nPlease try to call by 10:00 AM so we can be sure to prepare enough food for everyone.\nLet us know if you’ll be dining in or picking up a to-go meal.
URL:https://spaldingne.com/event/snc-lunch-oven-fried-chicken-12/
LOCATION:Spalding Nutrition Center\, 150 S. Elm Street
CATEGORIES:Spalding Nutrition Center Lunch
END:VEVENT
BEGIN:VEVENT
DTSTART;TZID=America/Chicago:20260325T100000
DTEND;TZID=America/Chicago:20260325T113000
DTSTAMP:20260419T234532
CREATED:20260304T182142Z
LAST-MODIFIED:20260304T182142Z
UID:2633-1774432800-1774438200@spaldingne.com
SUMMARY:SNC Lunch: Salisbury Steak
DESCRIPTION:Salisbury Steak\nBaked Potato\nCalifornia Blend Veg.\nButterscotch Pudding\n\nDid you know you do not have to be 60+ to enjoy a meal at the Senior Center? \nAnyone under 60 is welcome to receive a delicious\, nutritious meal for just $9.00. You can dine in or get it to go! \nHow to order: \n\nCall 308-497-2722\nPlease try to call by 10:00 AM so we can be sure to prepare enough food for everyone.\nLet us know if you’ll be dining in or picking up a to-go meal.
URL:https://spaldingne.com/event/snc-lunch-salisbury-steak-4/
LOCATION:Spalding Nutrition Center\, 150 S. Elm Street
CATEGORIES:Spalding Nutrition Center Lunch
END:VEVENT
BEGIN:VEVENT
DTSTART;TZID=America/Chicago:20260323T100000
DTEND;TZID=America/Chicago:20260323T113000
DTSTAMP:20260419T234532
CREATED:20260304T182047Z
LAST-MODIFIED:20260304T182047Z
UID:2631-1774260000-1774265400@spaldingne.com
SUMMARY:SNC Lunch: Goulash
DESCRIPTION:Goulash\nLettuce Salad\nApplesauce\nGarlic Bread\n\nDid you know you do not have to be 60+ to enjoy a meal at the Senior Center? \nAnyone under 60 is welcome to receive a delicious\, nutritious meal for just $9.00. You can dine in or get it to go! \nHow to order: \n\nCall 308-497-2722\nPlease try to call by 10:00 AM so we can be sure to prepare enough food for everyone.\nLet us know if you’ll be dining in or picking up a to-go meal.
URL:https://spaldingne.com/event/snc-lunch-goulash/
LOCATION:Spalding Nutrition Center\, 150 S. Elm Street
CATEGORIES:Spalding Nutrition Center Lunch
END:VEVENT
BEGIN:VEVENT
DTSTART;TZID=America/Chicago:20260320T100000
DTEND;TZID=America/Chicago:20260320T113000
DTSTAMP:20260419T234532
CREATED:20260304T181949Z
LAST-MODIFIED:20260304T181949Z
UID:2629-1774000800-1774006200@spaldingne.com
SUMMARY:SNC Lunch: Potato Soup
DESCRIPTION:Potato Soup\nFish Sandwich\nGlazed Carrots\nWatergate Salad\n\nDid you know you do not have to be 60+ to enjoy a meal at the Senior Center? \nAnyone under 60 is welcome to receive a delicious\, nutritious meal for just $9.00. You can dine in or get it to go! \nHow to order: \n\nCall 308-497-2722\nPlease try to call by 10:00 AM so we can be sure to prepare enough food for everyone.\nLet us know if you’ll be dining in or picking up a to-go meal.
URL:https://spaldingne.com/event/snc-lunch-potato-soup/
LOCATION:Spalding Nutrition Center\, 150 S. Elm Street
CATEGORIES:Spalding Nutrition Center Lunch
END:VEVENT
BEGIN:VEVENT
DTSTART;TZID=America/Chicago:20260319T100000
DTEND;TZID=America/Chicago:20260319T113000
DTSTAMP:20260419T234532
CREATED:20260304T181809Z
LAST-MODIFIED:20260304T181809Z
UID:2627-1773914400-1773919800@spaldingne.com
SUMMARY:SNC Lunch: Chicken Fried Steak
DESCRIPTION:Chicken Fried Steak\nMashed Pot. & Gravy\nMixed Vegetables\nPeaches\nDinner Rolls\n\nDid you know you do not have to be 60+ to enjoy a meal at the Senior Center? \nAnyone under 60 is welcome to receive a delicious\, nutritious meal for just $9.00. You can dine in or get it to go! \nHow to order: \n\nCall 308-497-2722\nPlease try to call by 10:00 AM so we can be sure to prepare enough food for everyone.\nLet us know if you’ll be dining in or picking up a to-go meal.
URL:https://spaldingne.com/event/snc-lunch-chicken-fried-steak-2/
LOCATION:Spalding Nutrition Center\, 150 S. Elm Street
CATEGORIES:Spalding Nutrition Center Lunch
END:VEVENT
BEGIN:VEVENT
DTSTART;TZID=America/Chicago:20260318T100000
DTEND;TZID=America/Chicago:20260318T113000
DTSTAMP:20260419T234532
CREATED:20260304T181709Z
LAST-MODIFIED:20260304T181709Z
UID:2625-1773828000-1773833400@spaldingne.com
SUMMARY:SNC Lunch: Shepherd's Pie
DESCRIPTION:Shepherd’s Pie\nCarrot & Celery Sticks\nHarvard Beets\nVanilla Pudding\n\nDid you know you do not have to be 60+ to enjoy a meal at the Senior Center? \nAnyone under 60 is welcome to receive a delicious\, nutritious meal for just $9.00. You can dine in or get it to go! \nHow to order: \n\nCall 308-497-2722\nPlease try to call by 10:00 AM so we can be sure to prepare enough food for everyone.\nLet us know if you’ll be dining in or picking up a to-go meal.
URL:https://spaldingne.com/event/snc-lunch-shepherds-pie/
LOCATION:Spalding Nutrition Center\, 150 S. Elm Street
CATEGORIES:Spalding Nutrition Center Lunch
END:VEVENT
BEGIN:VEVENT
DTSTART;TZID=America/Chicago:20260316T100000
DTEND;TZID=America/Chicago:20260316T113000
DTSTAMP:20260419T234532
CREATED:20260304T181609Z
LAST-MODIFIED:20260304T181609Z
UID:2623-1773655200-1773660600@spaldingne.com
SUMMARY:SNC Lunch: Corned Beef & Cabbage
DESCRIPTION:Corned Beef & Cabbage\nIrish Potatoes\nGreen Beans\nFrosted Sugar Cookies\n\nDid you know you do not have to be 60+ to enjoy a meal at the Senior Center? \nAnyone under 60 is welcome to receive a delicious\, nutritious meal for just $9.00. You can dine in or get it to go! \nHow to order: \n\nCall 308-497-2722\nPlease try to call by 10:00 AM so we can be sure to prepare enough food for everyone.\nLet us know if you’ll be dining in or picking up a to-go meal.
URL:https://spaldingne.com/event/snc-lunch-corned-beef-cabbage/
LOCATION:Spalding Nutrition Center\, 150 S. Elm Street
CATEGORIES:Spalding Nutrition Center Lunch
END:VEVENT
BEGIN:VEVENT
DTSTART;TZID=America/Chicago:20260315T110000
DTEND;TZID=America/Chicago:20260315T130000
DTSTAMP:20260419T234532
CREATED:20260304T180435Z
LAST-MODIFIED:20260304T180526Z
UID:2619-1773572400-1773579600@spaldingne.com
SUMMARY:Senior Center Silent Basket Auction
DESCRIPTION:
URL:https://spaldingne.com/event/senior-center-silent-basket-auction/
LOCATION:Spalding Nutrition Center\, 150 S. Elm Street
CATEGORIES:Community Event
END:VEVENT
BEGIN:VEVENT
DTSTART;TZID=America/Chicago:20260314T210000
DTEND;TZID=America/Chicago:20260315T000000
DTSTAMP:20260419T234532
CREATED:20260304T182826Z
LAST-MODIFIED:20260304T182826Z
UID:2641-1773522000-1773532800@spaldingne.com
SUMMARY:Sidewinder's Saloon St. Paddy's Party
DESCRIPTION:Screenshot
URL:https://spaldingne.com/event/sidewinders-saloon-st-paddys-party/
LOCATION:Sidewinders Saloon\, 166 W St Joseph St\, Spalding\, NE\, 68665\, United States
CATEGORIES:Community Event
END:VEVENT
BEGIN:VEVENT
DTSTART;TZID=America/Chicago:20260313T100000
DTEND;TZID=America/Chicago:20260313T113000
DTSTAMP:20260419T234532
CREATED:20260304T180141Z
LAST-MODIFIED:20260304T180141Z
UID:2617-1773396000-1773401400@spaldingne.com
SUMMARY:SNC Lunch: Pasta Crab Casserole
DESCRIPTION:Pasta Crab Casserole\nCauliflower w/ Cheese\nTropical Fruit\nGarlic Bread\n\nDid you know you do not have to be 60+ to enjoy a meal at the Senior Center? \nAnyone under 60 is welcome to receive a delicious\, nutritious meal for just $9.00. You can dine in or get it to go! \nHow to order: \n\nCall 308-497-2722\nPlease try to call by 10:00 AM so we can be sure to prepare enough food for everyone.\nLet us know if you’ll be dining in or picking up a to-go meal.
URL:https://spaldingne.com/event/snc-lunch-pasta-crab-casserole/
LOCATION:Spalding Nutrition Center\, 150 S. Elm Street
CATEGORIES:Spalding Nutrition Center Lunch
END:VEVENT
BEGIN:VEVENT
DTSTART;TZID=America/Chicago:20260312T100000
DTEND;TZID=America/Chicago:20260312T113000
DTSTAMP:20260419T234532
CREATED:20260304T174524Z
LAST-MODIFIED:20260304T174524Z
UID:2615-1773309600-1773315000@spaldingne.com
SUMMARY:SNC Lunch: Oven Fried Chicken
DESCRIPTION:Oven Fried Chicken\nMashed Pot. & Gravy\nGlazed Carrots\nJell-O w/ Fruit\nDinner Rolls\n\nDid you know you do not have to be 60+ to enjoy a meal at the Senior Center? \nAnyone under 60 is welcome to receive a delicious\, nutritious meal for just $9.00. You can dine in or get it to go! \nHow to order: \n\nCall 308-497-2722\nPlease try to call by 10:00 AM so we can be sure to prepare enough food for everyone.\nLet us know if you’ll be dining in or picking up a to-go meal.
URL:https://spaldingne.com/event/snc-lunch-oven-fried-chicken-11/
LOCATION:Spalding Nutrition Center\, 150 S. Elm Street
CATEGORIES:Spalding Nutrition Center Lunch
END:VEVENT
BEGIN:VEVENT
DTSTART;TZID=America/Chicago:20260311T100000
DTEND;TZID=America/Chicago:20260311T113000
DTSTAMP:20260419T234532
CREATED:20260304T174421Z
LAST-MODIFIED:20260304T174421Z
UID:2613-1773223200-1773228600@spaldingne.com
SUMMARY:SNC Lunch: Hot Beef Sandwich
DESCRIPTION:Hot Beef Sandwich\nMashed Pot. & Gravy\nCorn\nDessert\n\nDid you know you do not have to be 60+ to enjoy a meal at the Senior Center? \nAnyone under 60 is welcome to receive a delicious\, nutritious meal for just $9.00. You can dine in or get it to go! \nHow to order: \n\nCall 308-497-2722\nPlease try to call by 10:00 AM so we can be sure to prepare enough food for everyone.\nLet us know if you’ll be dining in or picking up a to-go meal.
URL:https://spaldingne.com/event/snc-lunch-hot-beef-sandwich/
LOCATION:Spalding Nutrition Center\, 150 S. Elm Street
CATEGORIES:Spalding Nutrition Center Lunch
END:VEVENT
BEGIN:VEVENT
DTSTART;TZID=America/Chicago:20260309T100000
DTEND;TZID=America/Chicago:20260309T113000
DTSTAMP:20260419T234532
CREATED:20260304T174332Z
LAST-MODIFIED:20260304T174332Z
UID:2611-1773050400-1773055800@spaldingne.com
SUMMARY:SNC Lunch: Ham
DESCRIPTION:Ham\nSweet Potatoes\nMixed Vegetables\nCorn Bread\n\nDid you know you do not have to be 60+ to enjoy a meal at the Senior Center? \nAnyone under 60 is welcome to receive a delicious\, nutritious meal for just $9.00. You can dine in or get it to go! \nHow to order: \n\nCall 308-497-2722\nPlease try to call by 10:00 AM so we can be sure to prepare enough food for everyone.\nLet us know if you’ll be dining in or picking up a to-go meal.
URL:https://spaldingne.com/event/snc-lunch-ham-3/
LOCATION:Spalding Nutrition Center\, 150 S. Elm Street
CATEGORIES:Spalding Nutrition Center Lunch
END:VEVENT
BEGIN:VEVENT
DTSTART;TZID=America/Chicago:20260306T100000
DTEND;TZID=America/Chicago:20260306T233000
DTSTAMP:20260419T234532
CREATED:20260304T174240Z
LAST-MODIFIED:20260304T174240Z
UID:2609-1772791200-1772839800@spaldingne.com
SUMMARY:SNC Lunch: Salmon Loaf
DESCRIPTION:Salmon Loaf\nElegant Potatoes\nGreen Beans\nJell-O w/ Fruit\n\nDid you know you do not have to be 60+ to enjoy a meal at the Senior Center? \nAnyone under 60 is welcome to receive a delicious\, nutritious meal for just $9.00. You can dine in or get it to go! \nHow to order: \n\nCall 308-497-2722\nPlease try to call by 10:00 AM so we can be sure to prepare enough food for everyone.\nLet us know if you’ll be dining in or picking up a to-go meal.
URL:https://spaldingne.com/event/snc-lunch-salmon-loaf/
LOCATION:Spalding Nutrition Center\, 150 S. Elm Street
CATEGORIES:Spalding Nutrition Center Lunch
END:VEVENT
BEGIN:VEVENT
DTSTART;TZID=America/Chicago:20260305T100000
DTEND;TZID=America/Chicago:20260305T113000
DTSTAMP:20260419T234532
CREATED:20260304T174140Z
LAST-MODIFIED:20260304T174140Z
UID:2607-1772704800-1772710200@spaldingne.com
SUMMARY:SNC Lunch: Pork Roast
DESCRIPTION:Pork Roast\nMashed Pot. & Gravy\nBrussel Sprouts w/ Carrots\nDessert\nDinner Rolls\n\nDid you know you do not have to be 60+ to enjoy a meal at the Senior Center? \nAnyone under 60 is welcome to receive a delicious\, nutritious meal for just $9.00. You can dine in or get it to go! \nHow to order: \n\nCall 308-497-2722\nPlease try to call by 10:00 AM so we can be sure to prepare enough food for everyone.\nLet us know if you’ll be dining in or picking up a to-go meal.
URL:https://spaldingne.com/event/snc-lunch-pork-roast-5/
LOCATION:Spalding Nutrition Center\, 150 S. Elm Street
CATEGORIES:Spalding Nutrition Center Lunch
END:VEVENT
BEGIN:VEVENT
DTSTART;TZID=America/Chicago:20260304T100000
DTEND;TZID=America/Chicago:20260304T113000
DTSTAMP:20260419T234532
CREATED:20260304T174041Z
LAST-MODIFIED:20260304T174041Z
UID:2605-1772618400-1772623800@spaldingne.com
SUMMARY:SNC Lunch: Meatloaf
DESCRIPTION:Meatloaf\nScalloped Potatoes\nBaked Beans\nTropical Fruit\n\nDid you know you do not have to be 60+ to enjoy a meal at the Senior Center? \nAnyone under 60 is welcome to receive a delicious\, nutritious meal for just $9.00. You can dine in or get it to go! \nHow to order: \n\nCall 308-497-2722\nPlease try to call by 10:00 AM so we can be sure to prepare enough food for everyone.\nLet us know if you’ll be dining in or picking up a to-go meal.
URL:https://spaldingne.com/event/snc-lunch-meatloaf-5/
LOCATION:Spalding Nutrition Center\, 150 S. Elm Street
CATEGORIES:Spalding Nutrition Center Lunch
END:VEVENT
BEGIN:VEVENT
DTSTART;TZID=America/Chicago:20260302T110000
DTEND;TZID=America/Chicago:20260302T123000
DTSTAMP:20260419T234532
CREATED:20260304T173409Z
LAST-MODIFIED:20260304T173931Z
UID:2601-1772449200-1772454600@spaldingne.com
SUMMARY:SNC Lunch: Chicken Spaghetti
DESCRIPTION:Chicken Spaghetti\nCaribbean Blend Veg.\nChocolate Pudding\nBreadsticks\n\nDid you know you do not have to be 60+ to enjoy a meal at the Senior Center? \nAnyone under 60 is welcome to receive a delicious\, nutritious meal for just $9.00. You can dine in or get it to go! \nHow to order: \n\nCall 308-497-2722\nPlease try to call by 10:00 AM so we can be sure to prepare enough food for everyone.\nLet us know if you’ll be dining in or picking up a to-go meal.
URL:https://spaldingne.com/event/snc-lunch-chicken-spaghetti-3/
LOCATION:Spalding Nutrition Center\, 150 S. Elm Street
CATEGORIES:Spalding Nutrition Center Lunch
END:VEVENT
BEGIN:VEVENT
DTSTART;TZID=America/Chicago:20260131T180000
DTEND;TZID=America/Chicago:20260131T220000
DTSTAMP:20260419T234532
CREATED:20260106T204005Z
LAST-MODIFIED:20260106T204037Z
UID:2513-1769882400-1769896800@spaldingne.com
SUMMARY:Dueling Pianos - Park & Pool Fundraiser
DESCRIPTION:
URL:https://spaldingne.com/event/dueling-pianos-park-pool-fundraiser/
LOCATION:Parish Center\, Spalding\, NE
CATEGORIES:Community Event
END:VEVENT
BEGIN:VEVENT
DTSTART;TZID=America/Chicago:20260130T110000
DTEND;TZID=America/Chicago:20260130T120000
DTSTAMP:20260419T234532
CREATED:20260106T193352Z
LAST-MODIFIED:20260106T193352Z
UID:2511-1769770800-1769774400@spaldingne.com
SUMMARY:SNC Lunch: Ham
DESCRIPTION:Ham \nSweet Potatoes \nPeas \nJell-O w/ Fruit
URL:https://spaldingne.com/event/snc-lunch-ham-2/
LOCATION:Spalding Nutrition Center\, 150 S. Elm Street
CATEGORIES:Spalding Nutrition Center Lunch
END:VEVENT
BEGIN:VEVENT
DTSTART;TZID=America/Chicago:20260129T110000
DTEND;TZID=America/Chicago:20260129T120000
DTSTAMP:20260419T234532
CREATED:20260106T193302Z
LAST-MODIFIED:20260106T193302Z
UID:2509-1769684400-1769688000@spaldingne.com
SUMMARY:SNC Lunch: Pork Roast
DESCRIPTION:Pork Roast \nMashed Pot. & Gravy \nBrussel Sprouts w/ Carrots \nDessert \nDinner Rolls
URL:https://spaldingne.com/event/snc-lunch-pork-roast-4/
LOCATION:Spalding Nutrition Center\, 150 S. Elm Street
CATEGORIES:Spalding Nutrition Center Lunch
END:VEVENT
BEGIN:VEVENT
DTSTART;TZID=America/Chicago:20260128T110000
DTEND;TZID=America/Chicago:20260128T120000
DTSTAMP:20260419T234532
CREATED:20260106T193210Z
LAST-MODIFIED:20260106T193210Z
UID:2507-1769598000-1769601600@spaldingne.com
SUMMARY:SNC Lunch: French Dip Sandwich
DESCRIPTION:French Dip Sandwich \nHash Browns \nMixed Vegetables \nChocolate Pudding
URL:https://spaldingne.com/event/snc-lunch-french-dip-sandwich-5/
LOCATION:Spalding Nutrition Center\, 150 S. Elm Street
CATEGORIES:Spalding Nutrition Center Lunch
END:VEVENT
BEGIN:VEVENT
DTSTART;TZID=America/Chicago:20260126T110000
DTEND;TZID=America/Chicago:20260126T120000
DTSTAMP:20260419T234532
CREATED:20260106T193117Z
LAST-MODIFIED:20260106T193118Z
UID:2505-1769425200-1769428800@spaldingne.com
SUMMARY:SNC Lunch: Spaghetti w/ Meat Sauce
DESCRIPTION:Spaghetti w/ Meat Sauce \nLettuce Salad \nApplesauce \nBreadsticks
URL:https://spaldingne.com/event/snc-lunch-spaghetti-w-meat-sauce-4/
LOCATION:Spalding Nutrition Center\, 150 S. Elm Street
CATEGORIES:Spalding Nutrition Center Lunch
END:VEVENT
BEGIN:VEVENT
DTSTART;TZID=America/Chicago:20260123T110000
DTEND;TZID=America/Chicago:20260123T120000
DTSTAMP:20260419T234532
CREATED:20260106T193015Z
LAST-MODIFIED:20260106T193015Z
UID:2503-1769166000-1769169600@spaldingne.com
SUMMARY:SNC Lunch: Beef & Noodles
DESCRIPTION:Beef & Noodles \n3-Bean Salad \nVanilla Pudding \nCinnamon Muffins
URL:https://spaldingne.com/event/snc-lunch-beef-noodles-5/
LOCATION:Spalding Nutrition Center\, 150 S. Elm Street
CATEGORIES:Spalding Nutrition Center Lunch
END:VEVENT
END:VCALENDAR