BEGIN:VCALENDAR
VERSION:2.0
PRODID:-//Spalding, Nebraska - ECPv6.15.20//NONSGML v1.0//EN
CALSCALE:GREGORIAN
METHOD:PUBLISH
X-WR-CALNAME:Spalding, Nebraska
X-ORIGINAL-URL:https://spaldingne.com
X-WR-CALDESC:Events for Spalding, Nebraska
REFRESH-INTERVAL;VALUE=DURATION:PT1H
X-Robots-Tag:noindex
X-PUBLISHED-TTL:PT1H
BEGIN:VTIMEZONE
TZID:America/Chicago
BEGIN:DAYLIGHT
TZOFFSETFROM:-0600
TZOFFSETTO:-0500
TZNAME:CDT
DTSTART:20230312T080000
END:DAYLIGHT
BEGIN:STANDARD
TZOFFSETFROM:-0500
TZOFFSETTO:-0600
TZNAME:CST
DTSTART:20231105T070000
END:STANDARD
BEGIN:DAYLIGHT
TZOFFSETFROM:-0600
TZOFFSETTO:-0500
TZNAME:CDT
DTSTART:20240310T080000
END:DAYLIGHT
BEGIN:STANDARD
TZOFFSETFROM:-0500
TZOFFSETTO:-0600
TZNAME:CST
DTSTART:20241103T070000
END:STANDARD
BEGIN:DAYLIGHT
TZOFFSETFROM:-0600
TZOFFSETTO:-0500
TZNAME:CDT
DTSTART:20250309T080000
END:DAYLIGHT
BEGIN:STANDARD
TZOFFSETFROM:-0500
TZOFFSETTO:-0600
TZNAME:CST
DTSTART:20251102T070000
END:STANDARD
BEGIN:DAYLIGHT
TZOFFSETFROM:-0600
TZOFFSETTO:-0500
TZNAME:CDT
DTSTART:20260308T080000
END:DAYLIGHT
BEGIN:STANDARD
TZOFFSETFROM:-0500
TZOFFSETTO:-0600
TZNAME:CST
DTSTART:20261101T070000
END:STANDARD
END:VTIMEZONE
BEGIN:VEVENT
DTSTART;TZID=America/Chicago:20250719T090000
DTEND;TZID=America/Chicago:20250719T130000
DTSTAMP:20260419T154332
CREATED:20250710T152259Z
LAST-MODIFIED:20250710T152259Z
UID:1629-1752915600-1752930000@spaldingne.com
SUMMARY:Spalding Sales
DESCRIPTION: Mark your calendars! Spalding’s biggest bargain day of the summer is happening July 19th! Join us in Spalding on Saturday\, July 19th\, from 9 AM to 1 PM for: Downtown Sidewalk Sales City-Wide Garage Sales Treasure hunting at unbeatable prices!Whether you’re on the hunt for unique finds\, vintage gems\, or just love a great deal\, this is a day you don’t want to miss!Want to host your own sale? Contact us to get on the official map and make sure shoppers can find you! Maps will be posted after July 15th on our Facebook page: facebook.com/spaldingeconomicdevelopmentgroup
URL:https://spaldingne.com/event/spalding-sales/
LOCATION:NE
CATEGORIES:Community Event
ATTACH;FMTTYPE=image/png:https://spaldingne.com/wp-content/uploads/2025/07/sidewalk-sales-1.png
END:VEVENT
BEGIN:VEVENT
DTSTART;TZID=America/Chicago:20250426T170000
DTEND;TZID=America/Chicago:20250426T200000
DTSTAMP:20260419T154332
CREATED:20250318T193150Z
LAST-MODIFIED:20250318T193150Z
UID:1125-1745686800-1745697600@spaldingne.com
SUMMARY:Prime Rib Sandwich Dinner Fundraiser
DESCRIPTION:
URL:https://spaldingne.com/event/prime-rib-sandwich-dinner-fundraiser/
LOCATION:Spalding Fire Hall\, Spalding\, NE\, 68665
CATEGORIES:Community Event
ATTACH;FMTTYPE=image/jpeg:https://spaldingne.com/wp-content/uploads/2025/03/spalding-rescue-squad.jpg
END:VEVENT
BEGIN:VEVENT
DTSTART;TZID=America/Chicago:20250419T100000
DTEND;TZID=America/Chicago:20250419T113000
DTSTAMP:20260419T154332
CREATED:20250318T191947Z
LAST-MODIFIED:20250318T191947Z
UID:1118-1745056800-1745062200@spaldingne.com
SUMMARY:Easter Egg Hunt
DESCRIPTION:
URL:https://spaldingne.com/event/easter-egg-hunt/
LOCATION:Spalding City Park
CATEGORIES:Community Event
ATTACH;FMTTYPE=image/jpeg:https://spaldingne.com/wp-content/uploads/2025/03/spalding-easter-egg-hunt.jpg
END:VEVENT
BEGIN:VEVENT
DTSTART;TZID=America/Chicago:20250405T200000
DTEND;TZID=America/Chicago:20250405T233000
DTSTAMP:20260419T154332
CREATED:20250122T163849Z
LAST-MODIFIED:20250225T171358Z
UID:1066-1743883200-1743895800@spaldingne.com
SUMMARY:Adult Prom
DESCRIPTION:
URL:https://spaldingne.com/event/adult-prom/
LOCATION:Spalding City Auditorium\, 211 E. St. Joseph Street\, Spalding\, NE\, 68665\, United States
CATEGORIES:Community Event
END:VEVENT
BEGIN:VEVENT
DTSTART;TZID=America/Chicago:20250312T190000
DTEND;TZID=America/Chicago:20250312T200000
DTSTAMP:20260419T154332
CREATED:20250225T171157Z
LAST-MODIFIED:20250225T171436Z
UID:1077-1741806000-1741809600@spaldingne.com
SUMMARY:Lady's Night - Flowers & Finance
DESCRIPTION:
URL:https://spaldingne.com/event/ladys-night-flowers-finance/
LOCATION:Petal & Stem
CATEGORIES:Community Event
ATTACH;FMTTYPE=image/jpeg:https://spaldingne.com/wp-content/uploads/2025/02/Petal-Stem.jpg
ORGANIZER;CN="Petal & Stem":MAILTO:michelle@shoppetalandstem.com
END:VEVENT
BEGIN:VEVENT
DTSTART;TZID=America/Chicago:20250307T180000
DTEND;TZID=America/Chicago:20250307T200000
DTSTAMP:20260419T154332
CREATED:20250225T175617Z
LAST-MODIFIED:20250225T175617Z
UID:1093-1741370400-1741377600@spaldingne.com
SUMMARY:Community Informational Session
DESCRIPTION:
URL:https://spaldingne.com/event/community-informational-session/
LOCATION:Spalding City Auditorium\, 211 E. St. Joseph Street\, Spalding\, NE\, 68665\, United States
CATEGORIES:Community Meeting
END:VEVENT
BEGIN:VEVENT
DTSTART;VALUE=DATE:20241213
DTEND;VALUE=DATE:20241214
DTSTAMP:20260419T154332
CREATED:20240918T185616Z
LAST-MODIFIED:20240918T185616Z
UID:908-1734048000-1734134399@spaldingne.com
SUMMARY:Santa Claus Day
DESCRIPTION:
URL:https://spaldingne.com/event/santa-claus-day/
LOCATION:NE
CATEGORIES:Community Event
ATTACH;FMTTYPE=image/png:https://spaldingne.com/wp-content/uploads/2024/09/Santa-Claus-1.png
END:VEVENT
BEGIN:VEVENT
DTSTART;TZID=America/Chicago:20241105T080000
DTEND;TZID=America/Chicago:20241105T200000
DTSTAMP:20260419T154332
CREATED:20241104T195240Z
LAST-MODIFIED:20241104T195240Z
UID:939-1730793600-1730836800@spaldingne.com
SUMMARY:Election Day
DESCRIPTION:
URL:https://spaldingne.com/event/election-day/
LOCATION:Spalding City Auditorium\, 211 E. St. Joseph Street\, Spalding\, NE\, 68665\, United States
CATEGORIES:Community Event
END:VEVENT
BEGIN:VEVENT
DTSTART;TZID=America/Chicago:20241103T130000
DTEND;TZID=America/Chicago:20241103T140000
DTSTAMP:20260419T154332
CREATED:20241009T173542Z
LAST-MODIFIED:20241009T173624Z
UID:922-1730638800-1730642400@spaldingne.com
SUMMARY:Protecting Our Children - Protecting Our Future
DESCRIPTION:
URL:https://spaldingne.com/event/protecting-our-children-protecting-our-future/
LOCATION:Spalding City Auditorium\, 211 E. St. Joseph Street\, Spalding\, NE\, 68665\, United States
CATEGORIES:Community Event
ATTACH;FMTTYPE=image/jpeg:https://spaldingne.com/wp-content/uploads/2024/10/spalding-ne.jpg
END:VEVENT
BEGIN:VEVENT
DTSTART;TZID=America/Chicago:20241019T143000
DTEND;TZID=America/Chicago:20241019T143000
DTSTAMP:20260419T154332
CREATED:20240829T143027Z
LAST-MODIFIED:20240829T143042Z
UID:865-1729348200-1729348200@spaldingne.com
SUMMARY:Swingin' in Spalding
DESCRIPTION:
URL:https://spaldingne.com/event/swingin-in-spalding/
LOCATION:NE
CATEGORIES:Community Event
ATTACH;FMTTYPE=image/jpeg:https://spaldingne.com/wp-content/uploads/2024/08/spalding-ne.jpg
END:VEVENT
BEGIN:VEVENT
DTSTART;TZID=America/Chicago:20240928T140000
DTEND;TZID=America/Chicago:20240928T170000
DTSTAMP:20260419T154332
CREATED:20240822T230614Z
LAST-MODIFIED:20240822T230614Z
UID:856-1727532000-1727542800@spaldingne.com
SUMMARY:Spalding Fall Festival
DESCRIPTION:
URL:https://spaldingne.com/event/spalding-fall-festival/
LOCATION:Spalding City Park
CATEGORIES:Community Event
ATTACH;FMTTYPE=image/png:https://spaldingne.com/wp-content/uploads/2024/08/Spalding-fall-festival-2024.png
END:VEVENT
BEGIN:VEVENT
DTSTART;TZID=America/Chicago:20240902T123000
DTEND;TZID=America/Chicago:20240902T203000
DTSTAMP:20260419T154332
CREATED:20240822T134924Z
LAST-MODIFIED:20240822T134924Z
UID:849-1725280200-1725309000@spaldingne.com
SUMMARY:Spalding Labor Day Road Rally
DESCRIPTION:
URL:https://spaldingne.com/event/spalding-labor-day-road-rally/
LOCATION:Spalding Fairgrounds
CATEGORIES:Community Event
ATTACH;FMTTYPE=image/jpeg:https://spaldingne.com/wp-content/uploads/2024/08/Spalding-Road-Rally.jpg
END:VEVENT
BEGIN:VEVENT
DTSTART;TZID=America/Chicago:20240901T080000
DTEND;TZID=America/Chicago:20240901T200000
DTSTAMP:20260419T154332
CREATED:20240821T161044Z
LAST-MODIFIED:20240821T161044Z
UID:844-1725177600-1725220800@spaldingne.com
SUMMARY:Cottonwood Greens Open
DESCRIPTION:3 Person Scramble \nTee times from 8 – 11 am \n$210 per team (meal included) \nFlag prizes\, cash payouts\, giveaways\, hole-in-one contests & much more! \nSign up for a tee time at the clubhouse or contact JJ Ondracek (308) 223-0335\, Dan Mailander (308) 370-0262\, or Ricky Stromp (308) 571-0877 for more information or to sign up. \n 
URL:https://spaldingne.com/event/cottonwood-greens-open/
LOCATION:Cottonwood Greens Golf Course\, Old Mill Rd\, Spalding
CATEGORIES:Community Event
ATTACH;FMTTYPE=image/jpeg:https://spaldingne.com/wp-content/uploads/2024/08/cottonwood-greens-golf-course.jpg
END:VEVENT
BEGIN:VEVENT
DTSTART;TZID=America/Chicago:20240831T120000
DTEND;TZID=America/Chicago:20240831T190000
DTSTAMP:20260419T154332
CREATED:20240823T202809Z
LAST-MODIFIED:20240823T202809Z
UID:861-1725105600-1725130800@spaldingne.com
SUMMARY:Midstates Mud Drags
DESCRIPTION:
URL:https://spaldingne.com/event/midstates-mud-drags/
LOCATION:Spalding Fairgrounds
CATEGORIES:Community Event
ATTACH;FMTTYPE=image/jpeg:https://spaldingne.com/wp-content/uploads/2024/08/spalding-mud-drags.jpg
END:VEVENT
BEGIN:VEVENT
DTSTART;TZID=America/Chicago:20240525T020000
DTEND;TZID=America/Chicago:20240527T110000
DTSTAMP:20260419T154332
CREATED:20240131T222038Z
LAST-MODIFIED:20240131T222038Z
UID:196-1716602400-1716807600@spaldingne.com
SUMMARY:Alumni Weekend
DESCRIPTION:More details coming soon.
URL:https://spaldingne.com/event/alumni-weekend/
LOCATION:NE
CATEGORIES:Alumni
END:VEVENT
BEGIN:VEVENT
DTSTART;TZID=America/Chicago:20240406T180000
DTEND;TZID=America/Chicago:20240406T220000
DTSTAMP:20260419T154332
CREATED:20240212T181043Z
LAST-MODIFIED:20240222T203714Z
UID:518-1712426400-1712440800@spaldingne.com
SUMMARY:Hee Haw 2024
DESCRIPTION:
URL:https://spaldingne.com/event/hee-haw-2024-2/
LOCATION:Spalding City Auditorium\, 211 E. St. Joseph Street\, Spalding\, NE\, 68665\, United States
CATEGORIES:Community Event
ATTACH;FMTTYPE=image/jpeg:https://spaldingne.com/wp-content/uploads/2024/02/Hee-Haw.jpeg
END:VEVENT
BEGIN:VEVENT
DTSTART;TZID=America/Chicago:20240405T183000
DTEND;TZID=America/Chicago:20240405T213000
DTSTAMP:20260419T154332
CREATED:20240212T180737Z
LAST-MODIFIED:20240222T203750Z
UID:514-1712341800-1712352600@spaldingne.com
SUMMARY:Hee Haw 2024
DESCRIPTION:
URL:https://spaldingne.com/event/hee-haw-2024/
LOCATION:Spalding City Auditorium\, 211 E. St. Joseph Street\, Spalding\, NE\, 68665\, United States
CATEGORIES:Community Event
ATTACH;FMTTYPE=image/jpeg:https://spaldingne.com/wp-content/uploads/2024/02/Hee-Haw.jpeg
END:VEVENT
END:VCALENDAR