BEGIN:VCALENDAR
VERSION:2.0
PRODID:-//Spalding, Nebraska - ECPv6.15.20//NONSGML v1.0//EN
CALSCALE:GREGORIAN
METHOD:PUBLISH
X-WR-CALNAME:Spalding, Nebraska
X-ORIGINAL-URL:https://spaldingne.com
X-WR-CALDESC:Events for Spalding, Nebraska
REFRESH-INTERVAL;VALUE=DURATION:PT1H
X-Robots-Tag:noindex
X-PUBLISHED-TTL:PT1H
BEGIN:VTIMEZONE
TZID:America/Chicago
BEGIN:DAYLIGHT
TZOFFSETFROM:-0600
TZOFFSETTO:-0500
TZNAME:CDT
DTSTART:20240310T080000
END:DAYLIGHT
BEGIN:STANDARD
TZOFFSETFROM:-0500
TZOFFSETTO:-0600
TZNAME:CST
DTSTART:20241103T070000
END:STANDARD
BEGIN:DAYLIGHT
TZOFFSETFROM:-0600
TZOFFSETTO:-0500
TZNAME:CDT
DTSTART:20250309T080000
END:DAYLIGHT
BEGIN:STANDARD
TZOFFSETFROM:-0500
TZOFFSETTO:-0600
TZNAME:CST
DTSTART:20251102T070000
END:STANDARD
BEGIN:DAYLIGHT
TZOFFSETFROM:-0600
TZOFFSETTO:-0500
TZNAME:CDT
DTSTART:20260308T080000
END:DAYLIGHT
BEGIN:STANDARD
TZOFFSETFROM:-0500
TZOFFSETTO:-0600
TZNAME:CST
DTSTART:20261101T070000
END:STANDARD
END:VTIMEZONE
BEGIN:VEVENT
DTSTART;TZID=America/Chicago:20251209T070000
DTEND;TZID=America/Chicago:20251209T200000
DTSTAMP:20260420T020459
CREATED:20251001T022804Z
LAST-MODIFIED:20251113T173052Z
UID:2194-1765263600-1765310400@spaldingne.com
SUMMARY:Santa Claus Day
DESCRIPTION:
URL:https://spaldingne.com/event/santa-claus-day-2/
LOCATION:Spalding City Auditorium\, 211 E. St. Joseph Street\, Spalding\, NE\, 68665\, United States
CATEGORIES:Community Event
END:VEVENT
BEGIN:VEVENT
DTSTART;TZID=America/Chicago:20251209T080000
DTEND;TZID=America/Chicago:20251209T160000
DTSTAMP:20260420T020459
CREATED:20251204T205848Z
LAST-MODIFIED:20251204T205848Z
UID:2445-1765267200-1765296000@spaldingne.com
SUMMARY:CRSB Holiday Open House
DESCRIPTION:
URL:https://spaldingne.com/event/crsb-holiday-open-house/
LOCATION:Cedar Rapids State Bank\, 161 N Elm\, Spalding\, NE\, 68665
CATEGORIES:Community Event
ATTACH;FMTTYPE=image/jpeg:https://spaldingne.com/wp-content/uploads/2025/12/CRSB-Open-House.jpg
END:VEVENT
END:VCALENDAR