BEGIN:VCALENDAR
VERSION:2.0
PRODID:-//Spalding, Nebraska - ECPv6.15.20//NONSGML v1.0//EN
CALSCALE:GREGORIAN
METHOD:PUBLISH
X-ORIGINAL-URL:https://spaldingne.com
X-WR-CALDESC:Events for Spalding, Nebraska
REFRESH-INTERVAL;VALUE=DURATION:PT1H
X-Robots-Tag:noindex
X-PUBLISHED-TTL:PT1H
BEGIN:VTIMEZONE
TZID:America/Chicago
BEGIN:DAYLIGHT
TZOFFSETFROM:-0600
TZOFFSETTO:-0500
TZNAME:CDT
DTSTART:20240310T080000
END:DAYLIGHT
BEGIN:STANDARD
TZOFFSETFROM:-0500
TZOFFSETTO:-0600
TZNAME:CST
DTSTART:20241103T070000
END:STANDARD
BEGIN:DAYLIGHT
TZOFFSETFROM:-0600
TZOFFSETTO:-0500
TZNAME:CDT
DTSTART:20250309T080000
END:DAYLIGHT
BEGIN:STANDARD
TZOFFSETFROM:-0500
TZOFFSETTO:-0600
TZNAME:CST
DTSTART:20251102T070000
END:STANDARD
BEGIN:DAYLIGHT
TZOFFSETFROM:-0600
TZOFFSETTO:-0500
TZNAME:CDT
DTSTART:20260308T080000
END:DAYLIGHT
BEGIN:STANDARD
TZOFFSETFROM:-0500
TZOFFSETTO:-0600
TZNAME:CST
DTSTART:20261101T070000
END:STANDARD
END:VTIMEZONE
BEGIN:VEVENT
DTSTART;TZID=America/Chicago:20251110T090000
DTEND;TZID=America/Chicago:20251110T150000
DTSTAMP:20260420T121248
CREATED:20251021T163349Z
LAST-MODIFIED:20251021T163439Z
UID:2256-1762765200-1762786800@spaldingne.com
SUMMARY:Blood Drive
DESCRIPTION:
URL:https://spaldingne.com/event/blood-drive/
LOCATION:Spalding City Auditorium\, 211 E. St. Joseph Street\, Spalding\, NE\, 68665\, United States
CATEGORIES:Community Event
END:VEVENT
BEGIN:VEVENT
DTSTART;TZID=America/Chicago:20251110T150000
DTEND;TZID=America/Chicago:20251110T170000
DTSTAMP:20260420T121248
CREATED:20251104T180404Z
LAST-MODIFIED:20251104T180404Z
UID:2308-1762786800-1762794000@spaldingne.com
SUMMARY:Barb Legate & Laurie Larsen Performance
DESCRIPTION:
URL:https://spaldingne.com/event/barb-legate-laurie-larsen-performance/
LOCATION:Spalding Nutrition Center\, 150 S. Elm Street
CATEGORIES:Community Event
END:VEVENT
END:VCALENDAR