BEGIN:VCALENDAR
VERSION:2.0
PRODID:-//Spalding, Nebraska - ECPv6.15.20//NONSGML v1.0//EN
CALSCALE:GREGORIAN
METHOD:PUBLISH
X-ORIGINAL-URL:https://spaldingne.com
X-WR-CALDESC:Events for Spalding, Nebraska
REFRESH-INTERVAL;VALUE=DURATION:PT1H
X-Robots-Tag:noindex
X-PUBLISHED-TTL:PT1H
BEGIN:VTIMEZONE
TZID:America/Chicago
BEGIN:DAYLIGHT
TZOFFSETFROM:-0600
TZOFFSETTO:-0500
TZNAME:CDT
DTSTART:20240310T080000
END:DAYLIGHT
BEGIN:STANDARD
TZOFFSETFROM:-0500
TZOFFSETTO:-0600
TZNAME:CST
DTSTART:20241103T070000
END:STANDARD
BEGIN:DAYLIGHT
TZOFFSETFROM:-0600
TZOFFSETTO:-0500
TZNAME:CDT
DTSTART:20250309T080000
END:DAYLIGHT
BEGIN:STANDARD
TZOFFSETFROM:-0500
TZOFFSETTO:-0600
TZNAME:CST
DTSTART:20251102T070000
END:STANDARD
BEGIN:DAYLIGHT
TZOFFSETFROM:-0600
TZOFFSETTO:-0500
TZNAME:CDT
DTSTART:20260308T080000
END:DAYLIGHT
BEGIN:STANDARD
TZOFFSETFROM:-0500
TZOFFSETTO:-0600
TZNAME:CST
DTSTART:20261101T070000
END:STANDARD
END:VTIMEZONE
BEGIN:VEVENT
DTSTART;TZID=America/Chicago:20251018T153000
DTEND;TZID=America/Chicago:20251018T230000
DTSTAMP:20260420T115224
CREATED:20250905T144328Z
LAST-MODIFIED:20250905T144328Z
UID:1964-1760801400-1760828400@spaldingne.com
SUMMARY:Swingin' in Spalding
DESCRIPTION:
URL:https://spaldingne.com/event/swingin-in-spalding-2/
LOCATION:Spalding City Auditorium\, 211 E. St. Joseph Street\, Spalding\, NE\, 68665\, United States
CATEGORIES:Community Event
ATTACH;FMTTYPE=image/jpeg:https://spaldingne.com/wp-content/uploads/2025/09/swingin-in-spalding.jpg
END:VEVENT
BEGIN:VEVENT
DTSTART;TZID=America/Chicago:20251022T070000
DTEND;TZID=America/Chicago:20251022T120000
DTSTAMP:20260420T115224
CREATED:20251020T190337Z
LAST-MODIFIED:20251020T190337Z
UID:2236-1761116400-1761134400@spaldingne.com
SUMMARY:Grace's Coffee Truck
DESCRIPTION:
URL:https://spaldingne.com/event/graces-coffee-truck-2/
LOCATION:Spalding City Auditorium\, 211 E. St. Joseph Street\, Spalding\, NE\, 68665\, United States
CATEGORIES:Community Event
END:VEVENT
BEGIN:VEVENT
DTSTART;TZID=America/Chicago:20251025T110000
DTEND;TZID=America/Chicago:20251025T113000
DTSTAMP:20260420T115224
CREATED:20251020T190654Z
LAST-MODIFIED:20251021T163755Z
UID:2239-1761390000-1761391800@spaldingne.com
SUMMARY:Howl-O-Ween Pet Costume Contest
DESCRIPTION:
URL:https://spaldingne.com/event/howl-o-ween-pet-costume-contest/
LOCATION:Spalding Animal Clinic\, 151 N Chestnut\, Spalding\, Nebraska\, 68665
CATEGORIES:Community Event
END:VEVENT
BEGIN:VEVENT
DTSTART;TZID=America/Chicago:20251025T210000
DTEND;TZID=America/Chicago:20251026T020000
DTSTAMP:20260420T115224
CREATED:20251007T161009Z
LAST-MODIFIED:20251021T163822Z
UID:2201-1761426000-1761444000@spaldingne.com
SUMMARY:Halloween Party
DESCRIPTION:
URL:https://spaldingne.com/event/halloween-party/
LOCATION:Bottom’s Up Bar\, 166 W St Joseph St\, Spalding\, NE\, 68665
CATEGORIES:Community Event
END:VEVENT
BEGIN:VEVENT
DTSTART;TZID=America/Chicago:20251026T140000
DTEND;TZID=America/Chicago:20251026T170000
DTSTAMP:20260420T115224
CREATED:20251001T021224Z
LAST-MODIFIED:20251001T021224Z
UID:2179-1761487200-1761498000@spaldingne.com
SUMMARY:Mini Barnyard Friends Halloween Party
DESCRIPTION:Come dressed in costumes for a scary good time. See the animals and an assortment of Halloween fun. It will be a fun time full of tricks and treats.Admission is $5 per person children 3 and younger are free
URL:https://spaldingne.com/event/mini-barnyard-friends-halloween-party/
LOCATION:Mini Barnyard Friends\, 50687 819th rd\, Spalding\, NE\, 68665\, United States
CATEGORIES:Community Event
ORGANIZER;CN="Mini Barnyard Friend":MAILTO:minibarnyardfriends@gmail.com
END:VEVENT
BEGIN:VEVENT
DTSTART;TZID=America/Chicago:20251026T163000
DTEND;TZID=America/Chicago:20251026T173000
DTSTAMP:20260420T115224
CREATED:20251017T175655Z
LAST-MODIFIED:20251021T163642Z
UID:2230-1761496200-1761499800@spaldingne.com
SUMMARY:Halloween Story Hour
DESCRIPTION:
URL:https://spaldingne.com/event/halloween-story-hour/
LOCATION:Spalding Public Library\, 159 W St. Joseph St\, Spalding\, NE\, 68620\, United States
CATEGORIES:Community Event
END:VEVENT
END:VCALENDAR