BEGIN:VCALENDAR
VERSION:2.0
PRODID:-//Spalding, Nebraska - ECPv6.15.20//NONSGML v1.0//EN
CALSCALE:GREGORIAN
METHOD:PUBLISH
X-ORIGINAL-URL:https://spaldingne.com
X-WR-CALDESC:Events for Spalding, Nebraska
REFRESH-INTERVAL;VALUE=DURATION:PT1H
X-Robots-Tag:noindex
X-PUBLISHED-TTL:PT1H
BEGIN:VTIMEZONE
TZID:America/Chicago
BEGIN:DAYLIGHT
TZOFFSETFROM:-0600
TZOFFSETTO:-0500
TZNAME:CDT
DTSTART:20240310T080000
END:DAYLIGHT
BEGIN:STANDARD
TZOFFSETFROM:-0500
TZOFFSETTO:-0600
TZNAME:CST
DTSTART:20241103T070000
END:STANDARD
BEGIN:DAYLIGHT
TZOFFSETFROM:-0600
TZOFFSETTO:-0500
TZNAME:CDT
DTSTART:20250309T080000
END:DAYLIGHT
BEGIN:STANDARD
TZOFFSETFROM:-0500
TZOFFSETTO:-0600
TZNAME:CST
DTSTART:20251102T070000
END:STANDARD
BEGIN:DAYLIGHT
TZOFFSETFROM:-0600
TZOFFSETTO:-0500
TZNAME:CDT
DTSTART:20260308T080000
END:DAYLIGHT
BEGIN:STANDARD
TZOFFSETFROM:-0500
TZOFFSETTO:-0600
TZNAME:CST
DTSTART:20261101T070000
END:STANDARD
END:VTIMEZONE
BEGIN:VEVENT
DTSTART;TZID=America/Chicago:20250901T130000
DTEND;TZID=America/Chicago:20250901T140000
DTSTAMP:20260420T042341
CREATED:20250826T201123Z
LAST-MODIFIED:20250826T201248Z
UID:1858-1756731600-1756735200@spaldingne.com
SUMMARY:Labor Day Road Rally
DESCRIPTION:
URL:https://spaldingne.com/event/labor-day-road-rally/
LOCATION:Spalding Fairgrounds
CATEGORIES:Community Event
END:VEVENT
BEGIN:VEVENT
DTSTART;TZID=America/Chicago:20250913T180000
DTEND;TZID=America/Chicago:20250913T193000
DTSTAMP:20260420T042341
CREATED:20250910T143806Z
LAST-MODIFIED:20250910T143806Z
UID:2085-1757786400-1757791800@spaldingne.com
SUMMARY:KC 13584 Burger Bash
DESCRIPTION:KC 13584 Burger Bash Date: Saturday\, September 13⏰ Time: 6:00 – 7:30 PM Location: St. Anthony Parish Center\, Cedar Rapids \nMenu: \n\n\nHamburgers \n\n\nHomemade fries \n\n\nBeans \n\n\nSoft serve ice cream \n\n\nLemonade & coffee \n\n\nDonation: Free-will \nCome enjoy a great meal and support the event!
URL:https://spaldingne.com/event/kc-13584-burger-bash/
LOCATION:Cedar Rapids\, Cedar Rapids\, Nebraska
CATEGORIES:Community Event
END:VEVENT
BEGIN:VEVENT
DTSTART;TZID=America/Chicago:20250921T140000
DTEND;TZID=America/Chicago:20250921T170000
DTSTAMP:20260420T042341
CREATED:20250905T155934Z
LAST-MODIFIED:20250905T155934Z
UID:1967-1758463200-1758474000@spaldingne.com
SUMMARY:Mini Barnyard Friends
DESCRIPTION:Mini Barnyard Friends is open to the public!
URL:https://spaldingne.com/event/mini-barnyard-friends/
LOCATION:Mini Barnyard Friends\, 50687 819th rd\, Spalding\, NE\, 68665\, United States
CATEGORIES:Community Event
ATTACH;FMTTYPE=image/jpeg:https://spaldingne.com/wp-content/uploads/2025/09/mini-barnyard-friends.jpg
ORGANIZER;CN="Mini Barnyard Friend":MAILTO:minibarnyardfriends@gmail.com
END:VEVENT
BEGIN:VEVENT
DTSTART;TZID=America/Chicago:20250923T100000
DTEND;TZID=America/Chicago:20250923T110000
DTSTAMP:20260420T042341
CREATED:20250905T163342Z
LAST-MODIFIED:20250905T163342Z
UID:1972-1758621600-1758625200@spaldingne.com
SUMMARY:Scams & Fraud Education
DESCRIPTION:
URL:https://spaldingne.com/event/scams-fraud-education/
LOCATION:Spalding Nutrition Center\, 150 S. Elm Street
CATEGORIES:Community Event
ATTACH;FMTTYPE=image/png:https://spaldingne.com/wp-content/uploads/2025/09/scams-and-fraud.png
END:VEVENT
END:VCALENDAR