BEGIN:VCALENDAR
VERSION:2.0
PRODID:-//Spalding, Nebraska - ECPv6.15.20//NONSGML v1.0//EN
CALSCALE:GREGORIAN
METHOD:PUBLISH
X-WR-CALNAME:Spalding, Nebraska
X-ORIGINAL-URL:https://spaldingne.com
X-WR-CALDESC:Events for Spalding, Nebraska
REFRESH-INTERVAL;VALUE=DURATION:PT1H
X-Robots-Tag:noindex
X-PUBLISHED-TTL:PT1H
BEGIN:VTIMEZONE
TZID:America/Chicago
BEGIN:DAYLIGHT
TZOFFSETFROM:-0600
TZOFFSETTO:-0500
TZNAME:CDT
DTSTART:20240310T080000
END:DAYLIGHT
BEGIN:STANDARD
TZOFFSETFROM:-0500
TZOFFSETTO:-0600
TZNAME:CST
DTSTART:20241103T070000
END:STANDARD
BEGIN:DAYLIGHT
TZOFFSETFROM:-0600
TZOFFSETTO:-0500
TZNAME:CDT
DTSTART:20250309T080000
END:DAYLIGHT
BEGIN:STANDARD
TZOFFSETFROM:-0500
TZOFFSETTO:-0600
TZNAME:CST
DTSTART:20251102T070000
END:STANDARD
BEGIN:DAYLIGHT
TZOFFSETFROM:-0600
TZOFFSETTO:-0500
TZNAME:CDT
DTSTART:20260308T080000
END:DAYLIGHT
BEGIN:STANDARD
TZOFFSETFROM:-0500
TZOFFSETTO:-0600
TZNAME:CST
DTSTART:20261101T070000
END:STANDARD
END:VTIMEZONE
BEGIN:VEVENT
DTSTART;TZID=America/Chicago:20251027T110000
DTEND;TZID=America/Chicago:20251027T130000
DTSTAMP:20260420T054922
CREATED:20251001T020511Z
LAST-MODIFIED:20251001T020511Z
UID:2171-1761562800-1761570000@spaldingne.com
SUMMARY:SNC Lunch: Sweet & Sour Pork
DESCRIPTION:Sweet & sour pork \nRice \nCaribbean blend vegetables \nVanilla pudding \nFried bread
URL:https://spaldingne.com/event/snc-lunch-sweet-sour-pork-2/
LOCATION:Spalding Nutrition Center\, 150 S. Elm Street
CATEGORIES:Spalding Nutrition Center Lunch
END:VEVENT
END:VCALENDAR