BEGIN:VCALENDAR
VERSION:2.0
PRODID:-//Spalding, Nebraska - ECPv6.15.20//NONSGML v1.0//EN
CALSCALE:GREGORIAN
METHOD:PUBLISH
X-ORIGINAL-URL:https://spaldingne.com
X-WR-CALDESC:Events for Spalding, Nebraska
REFRESH-INTERVAL;VALUE=DURATION:PT1H
X-Robots-Tag:noindex
X-PUBLISHED-TTL:PT1H
BEGIN:VTIMEZONE
TZID:America/Chicago
BEGIN:DAYLIGHT
TZOFFSETFROM:-0600
TZOFFSETTO:-0500
TZNAME:CDT
DTSTART:20240310T080000
END:DAYLIGHT
BEGIN:STANDARD
TZOFFSETFROM:-0500
TZOFFSETTO:-0600
TZNAME:CST
DTSTART:20241103T070000
END:STANDARD
BEGIN:DAYLIGHT
TZOFFSETFROM:-0600
TZOFFSETTO:-0500
TZNAME:CDT
DTSTART:20250309T080000
END:DAYLIGHT
BEGIN:STANDARD
TZOFFSETFROM:-0500
TZOFFSETTO:-0600
TZNAME:CST
DTSTART:20251102T070000
END:STANDARD
BEGIN:DAYLIGHT
TZOFFSETFROM:-0600
TZOFFSETTO:-0500
TZNAME:CDT
DTSTART:20260308T080000
END:DAYLIGHT
BEGIN:STANDARD
TZOFFSETFROM:-0500
TZOFFSETTO:-0600
TZNAME:CST
DTSTART:20261101T070000
END:STANDARD
END:VTIMEZONE
BEGIN:VEVENT
DTSTART;TZID=America/Chicago:20251025T110000
DTEND;TZID=America/Chicago:20251025T113000
DTSTAMP:20260420T062035
CREATED:20251020T190654Z
LAST-MODIFIED:20251021T163755Z
UID:2239-1761390000-1761391800@spaldingne.com
SUMMARY:Howl-O-Ween Pet Costume Contest
DESCRIPTION:
URL:https://spaldingne.com/event/howl-o-ween-pet-costume-contest/
LOCATION:Spalding Animal Clinic\, 151 N Chestnut\, Spalding\, Nebraska\, 68665
CATEGORIES:Community Event
END:VEVENT
BEGIN:VEVENT
DTSTART;TZID=America/Chicago:20251025T210000
DTEND;TZID=America/Chicago:20251026T020000
DTSTAMP:20260420T062035
CREATED:20251007T161009Z
LAST-MODIFIED:20251021T163822Z
UID:2201-1761426000-1761444000@spaldingne.com
SUMMARY:Halloween Party
DESCRIPTION:
URL:https://spaldingne.com/event/halloween-party/
LOCATION:Bottom’s Up Bar\, 166 W St Joseph St\, Spalding\, NE\, 68665
CATEGORIES:Community Event
END:VEVENT
END:VCALENDAR