BEGIN:VCALENDAR
VERSION:2.0
PRODID:-//Spalding, Nebraska - ECPv6.15.20//NONSGML v1.0//EN
CALSCALE:GREGORIAN
METHOD:PUBLISH
X-WR-CALNAME:Spalding, Nebraska
X-ORIGINAL-URL:https://spaldingne.com
X-WR-CALDESC:Events for Spalding, Nebraska
REFRESH-INTERVAL;VALUE=DURATION:PT1H
X-Robots-Tag:noindex
X-PUBLISHED-TTL:PT1H
BEGIN:VTIMEZONE
TZID:America/Chicago
BEGIN:DAYLIGHT
TZOFFSETFROM:-0600
TZOFFSETTO:-0500
TZNAME:CDT
DTSTART:20240310T080000
END:DAYLIGHT
BEGIN:STANDARD
TZOFFSETFROM:-0500
TZOFFSETTO:-0600
TZNAME:CST
DTSTART:20241103T070000
END:STANDARD
BEGIN:DAYLIGHT
TZOFFSETFROM:-0600
TZOFFSETTO:-0500
TZNAME:CDT
DTSTART:20250309T080000
END:DAYLIGHT
BEGIN:STANDARD
TZOFFSETFROM:-0500
TZOFFSETTO:-0600
TZNAME:CST
DTSTART:20251102T070000
END:STANDARD
BEGIN:DAYLIGHT
TZOFFSETFROM:-0600
TZOFFSETTO:-0500
TZNAME:CDT
DTSTART:20260308T080000
END:DAYLIGHT
BEGIN:STANDARD
TZOFFSETFROM:-0500
TZOFFSETTO:-0600
TZNAME:CST
DTSTART:20261101T070000
END:STANDARD
END:VTIMEZONE
BEGIN:VEVENT
DTSTART;TZID=America/Chicago:20251008T110000
DTEND;TZID=America/Chicago:20251008T130000
DTSTAMP:20260420T054839
CREATED:20250930T220345Z
LAST-MODIFIED:20250930T220345Z
UID:2149-1759921200-1759928400@spaldingne.com
SUMMARY:SNC Lunch: Beef Stew
DESCRIPTION:Beef stew \nCheese & crackers \nPickled beets \nDessert
URL:https://spaldingne.com/event/snc-lunch-beef-stew/
LOCATION:Spalding Nutrition Center\, 150 S. Elm Street
CATEGORIES:Spalding Nutrition Center Lunch
END:VEVENT
BEGIN:VEVENT
DTSTART;TZID=America/Chicago:20251008T190000
DTEND;TZID=America/Chicago:20251008T190000
DTSTAMP:20260420T054839
CREATED:20251001T023620Z
LAST-MODIFIED:20251001T023635Z
UID:2196-1759950000-1759950000@spaldingne.com
SUMMARY:Village Board Meeting
DESCRIPTION:
URL:https://spaldingne.com/event/village-board-meeting/
LOCATION:Spalding City Auditorium\, 211 E. St. Joseph Street\, Spalding\, NE\, 68665\, United States
END:VEVENT
END:VCALENDAR